BEGIN:VCALENDAR
VERSION:2.0
PRODID:-//KESQ Events - ECPv6.15.20//NONSGML v1.0//EN
CALSCALE:GREGORIAN
METHOD:PUBLISH
X-WR-CALNAME:KESQ Events
X-ORIGINAL-URL:https://events.kesq.com
X-WR-CALDESC:Events for KESQ Events
REFRESH-INTERVAL;VALUE=DURATION:PT1H
X-Robots-Tag:noindex
X-PUBLISHED-TTL:PT1H
BEGIN:VTIMEZONE
TZID:America/Los_Angeles
BEGIN:DAYLIGHT
TZOFFSETFROM:-0800
TZOFFSETTO:-0700
TZNAME:PDT
DTSTART:20240310T100000
END:DAYLIGHT
BEGIN:STANDARD
TZOFFSETFROM:-0700
TZOFFSETTO:-0800
TZNAME:PST
DTSTART:20241103T090000
END:STANDARD
BEGIN:DAYLIGHT
TZOFFSETFROM:-0800
TZOFFSETTO:-0700
TZNAME:PDT
DTSTART:20250309T100000
END:DAYLIGHT
BEGIN:STANDARD
TZOFFSETFROM:-0700
TZOFFSETTO:-0800
TZNAME:PST
DTSTART:20251102T090000
END:STANDARD
BEGIN:DAYLIGHT
TZOFFSETFROM:-0800
TZOFFSETTO:-0700
TZNAME:PDT
DTSTART:20260308T100000
END:DAYLIGHT
BEGIN:STANDARD
TZOFFSETFROM:-0700
TZOFFSETTO:-0800
TZNAME:PST
DTSTART:20261101T090000
END:STANDARD
END:VTIMEZONE
BEGIN:VEVENT
DTSTART;TZID=America/Los_Angeles:20251031T180000
DTEND;TZID=America/Los_Angeles:20251031T220000
DTSTAMP:20260421T042605
CREATED:20251007T201017Z
LAST-MODIFIED:20251007T201017Z
UID:10522-1761933600-1761948000@events.kesq.com
SUMMARY:JW Marriott Desert Springs Resort Accepting Reservations for "Spooktacular" Halloween Boat Rides
DESCRIPTION:JW Marriott Desert Springs Resort & Spa in Palm Desert\, renowned for its electric boat rides that set off from the hotel lobby\, will be hosting exclusive and family-friendly “Spooktacular” boat rides in celebration of Halloween. \nWith bookings now open\, hotel guests and locals alike are invited to reserve a spot for a thrilling cruise through the hotel’s vast waterways\, featuring eerie lighting\, a costumed crew\, and haunting melodies. Each boat will be elaborately decorated to provide a delightfully spooky experience and guests will enjoy sweet and savory snacks during the 25-minute excursion. Additionally\, children under the age of 12 who arrive in costume will be treated to a complimentary spooky beverage! \nPricing begins at $140 per boat\, which can accommodate up to 8 passengers. Available dates are October 17\, 18\, 24\, 25\, and 31\, from 6 PM to 10 PM\, and reservations can be made through the hotel’s activity website: https://jwdesertsprings.247activities.com/services/BoatTour.
URL:https://events.kesq.com/event/jw-marriott-desert-springs-resort-accepting-reservations-for-spooktacular-halloween-boat-rides/2025-10-31/
LOCATION:JW Marriott Resort and Spa\, 74-855 Country Club Drive\, Palm Desert\, 92260
CATEGORIES:Food and Drink,Music
ATTACH;FMTTYPE=image/jpeg:https://events.kesq.com/wp-content/uploads/2025/10/scary-boat-at-night-1.jpeg
ORGANIZER;CN="JW Marriott Resort and Spa":MAILTO:emma@ehprgroup.com
END:VEVENT
BEGIN:VEVENT
DTSTART;TZID=America/Los_Angeles:20251025T180000
DTEND;TZID=America/Los_Angeles:20251025T220000
DTSTAMP:20260421T042605
CREATED:20251007T201017Z
LAST-MODIFIED:20251007T201017Z
UID:10521-1761415200-1761429600@events.kesq.com
SUMMARY:JW Marriott Desert Springs Resort Accepting Reservations for "Spooktacular" Halloween Boat Rides
DESCRIPTION:JW Marriott Desert Springs Resort & Spa in Palm Desert\, renowned for its electric boat rides that set off from the hotel lobby\, will be hosting exclusive and family-friendly “Spooktacular” boat rides in celebration of Halloween. \nWith bookings now open\, hotel guests and locals alike are invited to reserve a spot for a thrilling cruise through the hotel’s vast waterways\, featuring eerie lighting\, a costumed crew\, and haunting melodies. Each boat will be elaborately decorated to provide a delightfully spooky experience and guests will enjoy sweet and savory snacks during the 25-minute excursion. Additionally\, children under the age of 12 who arrive in costume will be treated to a complimentary spooky beverage! \nPricing begins at $140 per boat\, which can accommodate up to 8 passengers. Available dates are October 17\, 18\, 24\, 25\, and 31\, from 6 PM to 10 PM\, and reservations can be made through the hotel’s activity website: https://jwdesertsprings.247activities.com/services/BoatTour.
URL:https://events.kesq.com/event/jw-marriott-desert-springs-resort-accepting-reservations-for-spooktacular-halloween-boat-rides/2025-10-25/
LOCATION:JW Marriott Resort and Spa\, 74-855 Country Club Drive\, Palm Desert\, 92260
CATEGORIES:Food and Drink,Music
ATTACH;FMTTYPE=image/jpeg:https://events.kesq.com/wp-content/uploads/2025/10/scary-boat-at-night-1.jpeg
ORGANIZER;CN="JW Marriott Resort and Spa":MAILTO:emma@ehprgroup.com
END:VEVENT
BEGIN:VEVENT
DTSTART;TZID=America/Los_Angeles:20251024T180000
DTEND;TZID=America/Los_Angeles:20251024T220000
DTSTAMP:20260421T042605
CREATED:20251007T201016Z
LAST-MODIFIED:20251007T201016Z
UID:10520-1761328800-1761343200@events.kesq.com
SUMMARY:JW Marriott Desert Springs Resort Accepting Reservations for "Spooktacular" Halloween Boat Rides
DESCRIPTION:JW Marriott Desert Springs Resort & Spa in Palm Desert\, renowned for its electric boat rides that set off from the hotel lobby\, will be hosting exclusive and family-friendly “Spooktacular” boat rides in celebration of Halloween. \nWith bookings now open\, hotel guests and locals alike are invited to reserve a spot for a thrilling cruise through the hotel’s vast waterways\, featuring eerie lighting\, a costumed crew\, and haunting melodies. Each boat will be elaborately decorated to provide a delightfully spooky experience and guests will enjoy sweet and savory snacks during the 25-minute excursion. Additionally\, children under the age of 12 who arrive in costume will be treated to a complimentary spooky beverage! \nPricing begins at $140 per boat\, which can accommodate up to 8 passengers. Available dates are October 17\, 18\, 24\, 25\, and 31\, from 6 PM to 10 PM\, and reservations can be made through the hotel’s activity website: https://jwdesertsprings.247activities.com/services/BoatTour.
URL:https://events.kesq.com/event/jw-marriott-desert-springs-resort-accepting-reservations-for-spooktacular-halloween-boat-rides/2025-10-24/
LOCATION:JW Marriott Resort and Spa\, 74-855 Country Club Drive\, Palm Desert\, 92260
CATEGORIES:Food and Drink,Music
ATTACH;FMTTYPE=image/jpeg:https://events.kesq.com/wp-content/uploads/2025/10/scary-boat-at-night-1.jpeg
ORGANIZER;CN="JW Marriott Resort and Spa":MAILTO:emma@ehprgroup.com
END:VEVENT
BEGIN:VEVENT
DTSTART;TZID=America/Los_Angeles:20251018T180000
DTEND;TZID=America/Los_Angeles:20251018T220000
DTSTAMP:20260421T042605
CREATED:20251007T201016Z
LAST-MODIFIED:20251007T201016Z
UID:10519-1760810400-1760824800@events.kesq.com
SUMMARY:JW Marriott Desert Springs Resort Accepting Reservations for "Spooktacular" Halloween Boat Rides
DESCRIPTION:JW Marriott Desert Springs Resort & Spa in Palm Desert\, renowned for its electric boat rides that set off from the hotel lobby\, will be hosting exclusive and family-friendly “Spooktacular” boat rides in celebration of Halloween. \nWith bookings now open\, hotel guests and locals alike are invited to reserve a spot for a thrilling cruise through the hotel’s vast waterways\, featuring eerie lighting\, a costumed crew\, and haunting melodies. Each boat will be elaborately decorated to provide a delightfully spooky experience and guests will enjoy sweet and savory snacks during the 25-minute excursion. Additionally\, children under the age of 12 who arrive in costume will be treated to a complimentary spooky beverage! \nPricing begins at $140 per boat\, which can accommodate up to 8 passengers. Available dates are October 17\, 18\, 24\, 25\, and 31\, from 6 PM to 10 PM\, and reservations can be made through the hotel’s activity website: https://jwdesertsprings.247activities.com/services/BoatTour.
URL:https://events.kesq.com/event/jw-marriott-desert-springs-resort-accepting-reservations-for-spooktacular-halloween-boat-rides/2025-10-18/
LOCATION:JW Marriott Resort and Spa\, 74-855 Country Club Drive\, Palm Desert\, 92260
CATEGORIES:Food and Drink,Music
ATTACH;FMTTYPE=image/jpeg:https://events.kesq.com/wp-content/uploads/2025/10/scary-boat-at-night-1.jpeg
ORGANIZER;CN="JW Marriott Resort and Spa":MAILTO:emma@ehprgroup.com
END:VEVENT
BEGIN:VEVENT
DTSTART;TZID=America/Los_Angeles:20251017T180000
DTEND;TZID=America/Los_Angeles:20251017T220000
DTSTAMP:20260421T042605
CREATED:20251007T201016Z
LAST-MODIFIED:20251007T201016Z
UID:10517-1760724000-1760738400@events.kesq.com
SUMMARY:JW Marriott Desert Springs Resort Accepting Reservations for "Spooktacular" Halloween Boat Rides
DESCRIPTION:JW Marriott Desert Springs Resort & Spa in Palm Desert\, renowned for its electric boat rides that set off from the hotel lobby\, will be hosting exclusive and family-friendly “Spooktacular” boat rides in celebration of Halloween. \nWith bookings now open\, hotel guests and locals alike are invited to reserve a spot for a thrilling cruise through the hotel’s vast waterways\, featuring eerie lighting\, a costumed crew\, and haunting melodies. Each boat will be elaborately decorated to provide a delightfully spooky experience and guests will enjoy sweet and savory snacks during the 25-minute excursion. Additionally\, children under the age of 12 who arrive in costume will be treated to a complimentary spooky beverage! \nPricing begins at $140 per boat\, which can accommodate up to 8 passengers. Available dates are October 17\, 18\, 24\, 25\, and 31\, from 6 PM to 10 PM\, and reservations can be made through the hotel’s activity website: https://jwdesertsprings.247activities.com/services/BoatTour.
URL:https://events.kesq.com/event/jw-marriott-desert-springs-resort-accepting-reservations-for-spooktacular-halloween-boat-rides/2025-10-17/
LOCATION:JW Marriott Resort and Spa\, 74-855 Country Club Drive\, Palm Desert\, 92260
CATEGORIES:Food and Drink,Music
ATTACH;FMTTYPE=image/jpeg:https://events.kesq.com/wp-content/uploads/2025/10/scary-boat-at-night-1.jpeg
ORGANIZER;CN="JW Marriott Resort and Spa":MAILTO:emma@ehprgroup.com
END:VEVENT
END:VCALENDAR