BEGIN:VCALENDAR
VERSION:2.0
PRODID:-//KESQ Events - ECPv6.15.20//NONSGML v1.0//EN
CALSCALE:GREGORIAN
METHOD:PUBLISH
X-WR-CALNAME:KESQ Events
X-ORIGINAL-URL:https://events.kesq.com
X-WR-CALDESC:Events for KESQ Events
REFRESH-INTERVAL;VALUE=DURATION:PT1H
X-Robots-Tag:noindex
X-PUBLISHED-TTL:PT1H
BEGIN:VTIMEZONE
TZID:America/Los_Angeles
BEGIN:DAYLIGHT
TZOFFSETFROM:-0800
TZOFFSETTO:-0700
TZNAME:PDT
DTSTART:20210314T100000
END:DAYLIGHT
BEGIN:STANDARD
TZOFFSETFROM:-0700
TZOFFSETTO:-0800
TZNAME:PST
DTSTART:20211107T090000
END:STANDARD
BEGIN:DAYLIGHT
TZOFFSETFROM:-0800
TZOFFSETTO:-0700
TZNAME:PDT
DTSTART:20220313T100000
END:DAYLIGHT
BEGIN:STANDARD
TZOFFSETFROM:-0700
TZOFFSETTO:-0800
TZNAME:PST
DTSTART:20221106T090000
END:STANDARD
BEGIN:DAYLIGHT
TZOFFSETFROM:-0800
TZOFFSETTO:-0700
TZNAME:PDT
DTSTART:20230312T100000
END:DAYLIGHT
BEGIN:STANDARD
TZOFFSETFROM:-0700
TZOFFSETTO:-0800
TZNAME:PST
DTSTART:20231105T090000
END:STANDARD
END:VTIMEZONE
BEGIN:VEVENT
DTSTART;TZID=America/Los_Angeles:20221118T153000
DTEND;TZID=America/Los_Angeles:20221118T153000
DTSTAMP:20260424T033054
CREATED:20221118T161654Z
LAST-MODIFIED:20221118T161654Z
UID:1559-1668785400-1668785400@events.kesq.com
SUMMARY:Sunset Sessions
DESCRIPTION:Enjoy local favorite\, Whitney Lyman\, every Friday on the Center Lawn near Saks Fifth Avenue. The two-hour shows are free to the public and feature music from the 60’s all the way to today’s greatest hits. \nFridays | 3:30 p.m. to 5:30 p.m.\nOctober 7 – December 23
URL:https://events.kesq.com/event/sunset-sessions/2022-11-18/
LOCATION:The Gardens on El Paseo\, 73545 El Paseo- Center Lawn\, Palm Desert\, CA\, 92260-4332
CATEGORIES:Community,Music
ATTACH;FMTTYPE=image/jpeg:https://events.kesq.com/wp-content/uploads/2022/11/GEP_SS_EventListing.jpg
ORGANIZER;CN="The Gardens on El Paseo":MAILTO:elpaseo@taubman.com
END:VEVENT
END:VCALENDAR