BEGIN:VCALENDAR
VERSION:2.0
PRODID:-//KESQ Events - ECPv6.15.20//NONSGML v1.0//EN
CALSCALE:GREGORIAN
METHOD:PUBLISH
X-ORIGINAL-URL:https://events.kesq.com
X-WR-CALDESC:Events for KESQ Events
REFRESH-INTERVAL;VALUE=DURATION:PT1H
X-Robots-Tag:noindex
X-PUBLISHED-TTL:PT1H
BEGIN:VTIMEZONE
TZID:America/Los_Angeles
BEGIN:DAYLIGHT
TZOFFSETFROM:-0800
TZOFFSETTO:-0700
TZNAME:PDT
DTSTART:20210314T100000
END:DAYLIGHT
BEGIN:STANDARD
TZOFFSETFROM:-0700
TZOFFSETTO:-0800
TZNAME:PST
DTSTART:20211107T090000
END:STANDARD
BEGIN:DAYLIGHT
TZOFFSETFROM:-0800
TZOFFSETTO:-0700
TZNAME:PDT
DTSTART:20220313T100000
END:DAYLIGHT
BEGIN:STANDARD
TZOFFSETFROM:-0700
TZOFFSETTO:-0800
TZNAME:PST
DTSTART:20221106T090000
END:STANDARD
BEGIN:DAYLIGHT
TZOFFSETFROM:-0800
TZOFFSETTO:-0700
TZNAME:PDT
DTSTART:20230312T100000
END:DAYLIGHT
BEGIN:STANDARD
TZOFFSETFROM:-0700
TZOFFSETTO:-0800
TZNAME:PST
DTSTART:20231105T090000
END:STANDARD
BEGIN:DAYLIGHT
TZOFFSETFROM:-0800
TZOFFSETTO:-0700
TZNAME:PDT
DTSTART:20240310T100000
END:DAYLIGHT
BEGIN:STANDARD
TZOFFSETFROM:-0700
TZOFFSETTO:-0800
TZNAME:PST
DTSTART:20241103T090000
END:STANDARD
END:VTIMEZONE
BEGIN:VEVENT
DTSTART;TZID=America/Los_Angeles:20221114T210000
DTEND;TZID=America/Los_Angeles:20230215T230000
DTSTAMP:20260424T080138
CREATED:20221115T052504Z
LAST-MODIFIED:20230214T073940Z
UID:1545-1668459600-1676502000@events.kesq.com
SUMMARY:Jazzville 5-Show Winter Discount (January to March)
DESCRIPTION:10% OFF when you buy 5 shows for Jazzville´’s exciting winter season which runs from Jan 5 to Mar 30.\n\n\nJazzville is offering 10% OFF select seats when you buy 5 shows for our winter season. \nSimply purchase your desired area and we’ll reach out to you by email for which shows and seats you’d like. We’ll lock in your seat details and add your name to the guest list for each night. Simple as that! \nBelow are the available season ticket options: \nMain Floor: Regularly $245 – Season discount = $220 \nFront Upper: Regularly $210 – Season discount = $189 \nFront Hi Top: Regularly $210 – Season discount = $189 \nSpeakeasy Hi Top: Regularly $100 – Season discount = $90 \nThis special ticket pricing offer ends Feb 16\, 2023 the middle of the final month of the winter season of Jazzville. \nNo refunds\, but you can transfer your seats to family and friends if you can’t make it. Season ticket offer can’t be combined with any other discount.
URL:https://events.kesq.com/event/jazzville-5-show-winter-discount-january-to-march/
LOCATION:Agua Caliente Casino Palm Springs\, 401 East Amado Road\, Palm Springs\, CA\, 92262\, United States
ATTACH;FMTTYPE=image/jpeg:https://events.kesq.com/wp-content/uploads/2022/12/95ebc8f43e5a63dec6742845f616288f-lHbkP6.tmp_.jpg
END:VEVENT
BEGIN:VEVENT
DTSTART;TZID=America/Los_Angeles:20230202T190000
DTEND;TZID=America/Los_Angeles:20230202T203000
DTSTAMP:20260424T080138
CREATED:20221122T052457Z
LAST-MODIFIED:20230131T074034Z
UID:1608-1675364400-1675369800@events.kesq.com
SUMMARY:M-Pact (Vocal Group)
DESCRIPTION:Jazzville brings the mega vocal group M-Pact to Palm Springs with their trailblazing harmonies.\n\n\nM-Pact comes to Jazzville! Hailed “one of the best pop/jazz vocal groups in the world” by the San Francisco Chronicle\, M-Pact is respected worldwide as a cutting-edge trailblazer in the realm of vocal music. Emerging from an age of auto-tune and overproduction\, this Los Angeles-based ensemble has cultivated a new generation of ears hungry for the fresh\, raw power of nature’s “first instrument”––the human voice.  \nFrom the beginning\, the “pact” of these well-studied masters has been to stay true to Music\, regardless of style or genre. Their sophisticated sound and accessible appeal have garnered vast accolades\, from Vocal Group of the Year (the LA Music Awards)\, an Indie nomination (the Independent Grammy)\, and Artist of the Year (Seattle Music Awards)\, to Grand National Champs of the Harmony Sweepstakes competition and Billboard Magazine’s “Best Unsigned Band”.  \nJazzville at the Cascade Lounge offers state-of-the-art sound and lighting with pristine acoustics and plush seating. \nThings to know before you go: \n• Must be 21 or over. \n• Doors open at 6pm with a 7pm showtime. \n• Drinks served throughout the show. \n• No refunds except for COVID-related shutdown. \n• Free covered parking in attached garage. \nWe cannot take cash at the door (casino policy). We can accept credit cards at the door if seats are available. \nOur shows can sell out\, so pick your seats today! If you ignore the seating chart\, then the best available seats will be assigned to you. \nNo one under 21 admitted. Tickets are non-refundable. Line-up subject to change without notice. \nBoth the casino and lounge are non-smoking environments. \nFood is not served in the Cascade Lounge but can be brought in from any of the casino restaurants. We do have a full bar with no drink minimums.
URL:https://events.kesq.com/event/m-pact/
LOCATION:Agua Caliente Casino Palm Springs\, 401 East Amado Road\, Palm Springs\, CA\, 92262\, United States
ATTACH;FMTTYPE=image/jpeg:https://events.kesq.com/wp-content/uploads/2022/12/61e8c63aa9ea0bdcd38075dfd10b6893-Cg2mdi.tmp_.jpg
END:VEVENT
END:VCALENDAR