BEGIN:VCALENDAR
VERSION:2.0
PRODID:-//KESQ Events - ECPv6.15.20//NONSGML v1.0//EN
CALSCALE:GREGORIAN
METHOD:PUBLISH
X-ORIGINAL-URL:https://events.kesq.com
X-WR-CALDESC:Events for KESQ Events
REFRESH-INTERVAL;VALUE=DURATION:PT1H
X-Robots-Tag:noindex
X-PUBLISHED-TTL:PT1H
BEGIN:VTIMEZONE
TZID:America/Los_Angeles
BEGIN:DAYLIGHT
TZOFFSETFROM:-0800
TZOFFSETTO:-0700
TZNAME:PDT
DTSTART:20220313T100000
END:DAYLIGHT
BEGIN:STANDARD
TZOFFSETFROM:-0700
TZOFFSETTO:-0800
TZNAME:PST
DTSTART:20221106T090000
END:STANDARD
BEGIN:DAYLIGHT
TZOFFSETFROM:-0800
TZOFFSETTO:-0700
TZNAME:PDT
DTSTART:20230312T100000
END:DAYLIGHT
BEGIN:STANDARD
TZOFFSETFROM:-0700
TZOFFSETTO:-0800
TZNAME:PST
DTSTART:20231105T090000
END:STANDARD
BEGIN:DAYLIGHT
TZOFFSETFROM:-0800
TZOFFSETTO:-0700
TZNAME:PDT
DTSTART:20240310T100000
END:DAYLIGHT
BEGIN:STANDARD
TZOFFSETFROM:-0700
TZOFFSETTO:-0800
TZNAME:PST
DTSTART:20241103T090000
END:STANDARD
END:VTIMEZONE
BEGIN:VEVENT
DTSTART;TZID=America/Los_Angeles:20230531T010000
DTEND;TZID=America/Los_Angeles:20230701T020000
DTSTAMP:20260421T153941
CREATED:20230606T095602Z
LAST-MODIFIED:20230627T095647Z
UID:3201-1685494800-1688176800@events.kesq.com
SUMMARY:Jazzville Summer Season 2023 (July thru Sept)
DESCRIPTION:Jazzville  summer season tickets 2023. Own your seats for all 13 shows at 20% OFF the regular cost of all seats priced over $20.\n\n\nJazzville Season Tickets for Summer 2023: July 6 to Sept 28 \nOwn your seats for all 13 shows and get 20% OFF all seats priced over $21. \nEventbrite doesn’t provide a Season Ticket selling tool\, but we’ve made it easy… Simply purchase seats in your desired area and we’ll manually assign the best available. Then\, we’ll communicate by email to assign the exact seats that you want to own (as long as they are still available). That’s it! Your name will be on the guest list for each show\, and you become Jazzville royalty with our most sincere gratitude. \nBelow are the available season ticket options: \nFront Row Loungers: Regularly $720 – Season discount = $570 \nMain Floor: Regularly $560 – Season discount = $445 \nFront Upper: Regularly $480 – Season discount = $380 \nFront Hi Top: Regularly $480 – Season discount = $380 \nFront Booth: Regularly $480 – Season discount = $430 \nMid Room Hi Top: Regularly $380 – Season discount = $300 \nBar Front: Regularly $240 – Season discount = $190 \nSpeakeasy Hi Top: Regularly $240 – Season discount = $190 \nThis special ticket pricing offer ends July 6\, 2023 the first show day of the spring season of Jazzville. \nThere are no refunds on any show you may not be able to attend\, but you can transfer your seats to family and friends. Season ticket offer can’t be combined with any other incentive or discount offer. Programs subject to change without notice. \nComing to Jazzville this spring: \n\nJuly 6 | Folk Element Trio\nJuly 13 | Mon David w/Quartet\nJuly 20 | Irving Flores Afro-Cuban Jazz Quintet\nJuly 27  | Amanda Castro 7-Piece Band\nAug 3 | Judy Wexler w/Quartet\nAug 10 | Alison Young & Luca Pino Trio\nAug 17 | Bob DeSena Latin Jazz Quintet\nAug 24 | Kait Duton/Andrew Synowiec Band\nAug 31 | Natalie Hannah Mendoza: Speakeasy\nSept 7 | Sydney Jacobs w/Quintet\nSept 14 | Jason Fabus Quartet – Brubeck/Desmond Tribute\nSept 21 | Jason “Malletman” Taylor w/Quintet\nSept 28 | Maria de la Vega and the Wayward Five
URL:https://events.kesq.com/event/jazzville-summer-season-2023-july-thru-sept/
LOCATION:Agua Caliente Casino Palm Springs\, 401 East Amado Road\, Palm Springs\, CA\, 92262\, United States
ATTACH;FMTTYPE=image/jpeg:https://events.kesq.com/wp-content/uploads/2023/06/07af601b97f14c9b352cded89c630a9a-wuq9B6.tmp_.jpg
END:VEVENT
BEGIN:VEVENT
DTSTART;TZID=America/Los_Angeles:20230607T170000
DTEND;TZID=America/Los_Angeles:20230728T190000
DTSTAMP:20260421T153941
CREATED:20230524T194720Z
LAST-MODIFIED:20230524T194720Z
UID:3096-1686157200-1690570800@events.kesq.com
SUMMARY:Creative Sizzle
DESCRIPTION:The Stephen Baumbach Gallery proudly presents “Creative Sizzle”. \nWe’re making this summer even hotter with a special collection of original works from some of the hottest artists in the desert.  This group show features abstract impressionist Roberto Amaral and five other Coachella Valley artists. \nThe exhibit runs from June 7 to July 29\, 2023.  Summer gallery hours are Monday – Friday\, 10am-2pm. \nJoin us at the opening reception on Wednesday\, June 7\, 2023 – 5pm-7pm\, to coincide with the Backstreet Art District’s First Wednesday Art Walk.  Light hors d’oeuvres and beverages will be provided. \nThe gallery is located at 4116 Matthew Drive\, Palm Springs\, (CA  92264).  During road construction\, please access the gallery using the service roads around The Estate Sale.  For more information\, please call 760-501-6806. \n 
URL:https://events.kesq.com/event/creative-sizzle/
LOCATION:Stephen Baumbach Gallery\, 4116 Matthew Dr\, Palm Springs\, 92264
CATEGORIES:Art and Exhibits
ATTACH;FMTTYPE=image/jpeg:https://events.kesq.com/wp-content/uploads/2023/05/creatives.jpg
ORGANIZER;CN="Stephen Baumbach":MAILTO:info@stephenbaumbachgallery.com
END:VEVENT
BEGIN:VEVENT
DTSTART;TZID=America/Los_Angeles:20230624T100000
DTEND;TZID=America/Los_Angeles:20230624T140000
DTSTAMP:20260421T153941
CREATED:20230627T202102Z
LAST-MODIFIED:20230627T202102Z
UID:3317-1687600800-1687615200@events.kesq.com
SUMMARY:Join the Grand Opening of Nékter Juice Bar in Palm Desert!
DESCRIPTION:On June 24th\, starting at 10:00 am\, The newest Nékter is celebrating its Grand Opening in Palm Desert! \n  \nCome celebrate the opening of the newest Nékter Juice Bar® in Riverside County’s Palm Desert.  The grand opening event on June 24th\, 2023\, is open to the public and features free 16-ounce juices and smoothies from 10 am to 2 pm. In addition\, the first 50 visitors will receive free Nekter goodie bags\, including coupons and customized tumblers. \n  \nAlongside the Free Juices & Smoothies\, the Grand Opening celebration will also feature: \n\nHourly raffles for a chance to win a Free Nekter for Three Months*\, with 24 winners in total.\nFree Nekter goodie bags\, including coupons and customized tumblers\, for the first 50 guest in Line\nFree Nekter cooler bags to the first 100 guests in line at noon.\n$35 cleanses will be available for purchase all day.\nFace Painting\, balloon twisting\, free photo booth\, music\, and more!\n\nThe Palm Desert Nékter is located at 73120 Dinah Shore Dr\, Palm Desert\, CA 92211. The store is open daily from 7:00 am-8:00 pm. In addition\, the location offers dine-in\, online ordering\, and catering. \nDiscover the right balance of taste and nutrition by customizing your order to your liking. All of Nékter’s menu offerings are made-to-order\, emphasizing natural ingredients and zero hidden fillers or processed components. \nThe location offers dine-in\, online ordering\, and catering. This location is open to the public. \nRSVP Here! \n*Free Nekter for Three Months equals to one 16-ounce free Smoothie\, Juice\, or Acai Bowl week once a week for 13 weeks. The raffle will be held each hour from 10 am – 2 pm\, with six winners each round. \n*Only the first 50 guest in line on the opening day will get the Free Nekter Goodie Bag. RSVPing does NOT mean you’ll get Free Nekter Goodie Bag. \n*Only the first 100 people in line at noon will receive a Free Nekter Cooler Bag. RSVPing does NOT mean you’ll get Free Nekter Cooler Bag.
URL:https://events.kesq.com/event/join-the-grand-opening-of-nekter-juice-bar-in-palm-desert/
LOCATION:Nekter Juice Bar\, 73-555 Hwy 111\, Palm Desert\, 92260
ATTACH;FMTTYPE=image/png:https://events.kesq.com/wp-content/uploads/2023/06/Nekter-PD-Digital-Invite.Final_.png
END:VEVENT
BEGIN:VEVENT
DTSTART;TZID=America/Los_Angeles:20230624T193000
DTEND;TZID=America/Los_Angeles:20230624T213000
DTSTAMP:20260421T153941
CREATED:20230420T165922Z
LAST-MODIFIED:20230428T223847Z
UID:2826-1687635000-1687642200@events.kesq.com
SUMMARY:Barenaked Ladies at Fantasy Springs Resort Casino
DESCRIPTION:Those beloved\, fun–loving rockers Barenaked Ladies are at it again as they bring their Last Summer on Earth 2023 American Tour with Semisonic and Del Amitri to Fantasy Springs on Saturday\, June 24\, 2023.
URL:https://events.kesq.com/event/barenaked-ladies-at-fantasy-springs-resort-casino/
LOCATION:Fantasy Springs Resort Casino\, 84-245 Indio Springs Pkwy\, Indio\, CA\, 92203\, United States
CATEGORIES:Music
ATTACH;FMTTYPE=image/jpeg:https://events.kesq.com/wp-content/uploads/2023/04/BarenakedLadies_DigitalAd_676x375.jpg
END:VEVENT
END:VCALENDAR