BEGIN:VCALENDAR
VERSION:2.0
PRODID:-//KESQ Events - ECPv6.15.20//NONSGML v1.0//EN
CALSCALE:GREGORIAN
METHOD:PUBLISH
X-ORIGINAL-URL:https://events.kesq.com
X-WR-CALDESC:Events for KESQ Events
REFRESH-INTERVAL;VALUE=DURATION:PT1H
X-Robots-Tag:noindex
X-PUBLISHED-TTL:PT1H
BEGIN:VTIMEZONE
TZID:America/Los_Angeles
BEGIN:DAYLIGHT
TZOFFSETFROM:-0800
TZOFFSETTO:-0700
TZNAME:PDT
DTSTART:20220313T100000
END:DAYLIGHT
BEGIN:STANDARD
TZOFFSETFROM:-0700
TZOFFSETTO:-0800
TZNAME:PST
DTSTART:20221106T090000
END:STANDARD
BEGIN:DAYLIGHT
TZOFFSETFROM:-0800
TZOFFSETTO:-0700
TZNAME:PDT
DTSTART:20230312T100000
END:DAYLIGHT
BEGIN:STANDARD
TZOFFSETFROM:-0700
TZOFFSETTO:-0800
TZNAME:PST
DTSTART:20231105T090000
END:STANDARD
BEGIN:DAYLIGHT
TZOFFSETFROM:-0800
TZOFFSETTO:-0700
TZNAME:PDT
DTSTART:20240310T100000
END:DAYLIGHT
BEGIN:STANDARD
TZOFFSETFROM:-0700
TZOFFSETTO:-0800
TZNAME:PST
DTSTART:20241103T090000
END:STANDARD
END:VTIMEZONE
BEGIN:VEVENT
DTSTART;TZID=America/Los_Angeles:20230607T170000
DTEND;TZID=America/Los_Angeles:20230728T190000
DTSTAMP:20260422T162402
CREATED:20230524T194720Z
LAST-MODIFIED:20230524T194720Z
UID:3096-1686157200-1690570800@events.kesq.com
SUMMARY:Creative Sizzle
DESCRIPTION:The Stephen Baumbach Gallery proudly presents “Creative Sizzle”. \nWe’re making this summer even hotter with a special collection of original works from some of the hottest artists in the desert.  This group show features abstract impressionist Roberto Amaral and five other Coachella Valley artists. \nThe exhibit runs from June 7 to July 29\, 2023.  Summer gallery hours are Monday – Friday\, 10am-2pm. \nJoin us at the opening reception on Wednesday\, June 7\, 2023 – 5pm-7pm\, to coincide with the Backstreet Art District’s First Wednesday Art Walk.  Light hors d’oeuvres and beverages will be provided. \nThe gallery is located at 4116 Matthew Drive\, Palm Springs\, (CA  92264).  During road construction\, please access the gallery using the service roads around The Estate Sale.  For more information\, please call 760-501-6806. \n 
URL:https://events.kesq.com/event/creative-sizzle/
LOCATION:Stephen Baumbach Gallery\, 4116 Matthew Dr\, Palm Springs\, 92264
CATEGORIES:Art and Exhibits
ATTACH;FMTTYPE=image/jpeg:https://events.kesq.com/wp-content/uploads/2023/05/creatives.jpg
ORGANIZER;CN="Stephen Baumbach":MAILTO:info@stephenbaumbachgallery.com
END:VEVENT
BEGIN:VEVENT
DTSTART;TZID=America/Los_Angeles:20230705T170000
DTEND;TZID=America/Los_Angeles:20230705T190000
DTSTAMP:20260422T162402
CREATED:20230627T202351Z
LAST-MODIFIED:20230627T202351Z
UID:3364-1688576400-1688583600@events.kesq.com
SUMMARY:First Wednesday Art Walk
DESCRIPTION:A few galleries in the Backstreet Art District will be holding the monthly First Wednesday Art Walk on Wednesday\, July 5\, 2023.  The Stephen Baumbach Gallery will be open 5pm-7pm and offering guest light refreshments for viewing of their current exhibition\, ‘Creative Sizzle’.  ‘Creative Sizzle’ is a group show of 6 Coachella Valley artists including: \nTim Rasmussen\nDennis Meloy\nMichael Roman\nRoberto Amaral\nCraig Mann\nErnesto Ramirez \nPlease drop by at 4116 Matthew Dr\, Palm Springs \n 
URL:https://events.kesq.com/event/first-wednesday-art-walk/
LOCATION:Stephen Baumbach Gallery\, 4116 Matthew Dr\, Palm Springs\, 92264
CATEGORIES:Art and Exhibits
ATTACH;FMTTYPE=image/jpeg:https://events.kesq.com/wp-content/uploads/2023/06/baumbach-gallery-june-2023-scaled.jpg
ORGANIZER;CN="Stephen Baumbach":MAILTO:info@stephenbaumbachgallery.com
END:VEVENT
BEGIN:VEVENT
DTSTART;TZID=America/Los_Angeles:20230705T190000
DTEND;TZID=America/Los_Angeles:20230705T203000
DTSTAMP:20260422T162402
CREATED:20230329T015546Z
LAST-MODIFIED:20230705T024109Z
UID:2644-1688583600-1688589000@events.kesq.com
SUMMARY:The Shea Welsh Hope Diamond Blues Experience
DESCRIPTION:Shea Welsh Blues Band bringing some soul filling blues to Palm Springs\n\n\nThe Shea Welsh Hope Diamond Blues Experience \nHope and Shea make their return appearance to Agua Caliente Casino in Palm Springs\, CA.  One of the most in-demand guitarists in Los Angeles\, California\, Blujazz recording artist Shea Welsh is also a noted composer & producer. His fiery guitar playing has taken him all around the world with recent performances in Panama\, India and France.  Vocalist Hope Diamond\, riding the wave of her most recent release “Awaken”\, has recently performed in Atlanta and Panama.  The Shea Welsh Hope Diamond Blues Experience combines their talents in a classic blues setting a la Stevie Ray Vaughan meets Koko Taylor.  \n \nwww.SheaWelsh.com \nwww.HopeDiamondDeans.com \n \n Desert Blues Revival at the Cascade Lounge offers state-of-the-art sound and lighting with pristine acoustics\, unobstructed sight lines\, and plush seating. \nThings to know before you go: \n• Must be 21 or over. \n• Doors open at 6pm with a 7pm showtime. \n• No refunds except for COVID-related shutdown. \n• Free covered parking in attached garage. \nWe cannot take cash at the door (casino policy). We can accept credit cards at the door if seats are available. \nOur shows often sell out\, so pick your seats today! If you ignore the seating chart\, then the best available seats will be assigned to you. \nNo one under 21 admitted. Tickets are non refundable. \nBoth the casino and lounge are non-smoking environments.
URL:https://events.kesq.com/event/shea-welsh-band/
LOCATION:Agua Caliente Casino Palm Springs\, 401 East Amado Road\, Palm Springs\, CA\, 92262\, United States
ATTACH;FMTTYPE=image/jpeg:https://events.kesq.com/wp-content/uploads/2023/03/bc635eef103ac715b633ac49ebd83287-f9UXqN.tmp_.jpg
END:VEVENT
END:VCALENDAR