BEGIN:VCALENDAR
VERSION:2.0
PRODID:-//KESQ Events - ECPv6.15.20//NONSGML v1.0//EN
CALSCALE:GREGORIAN
METHOD:PUBLISH
X-ORIGINAL-URL:https://events.kesq.com
X-WR-CALDESC:Events for KESQ Events
REFRESH-INTERVAL;VALUE=DURATION:PT1H
X-Robots-Tag:noindex
X-PUBLISHED-TTL:PT1H
BEGIN:VTIMEZONE
TZID:America/Los_Angeles
BEGIN:DAYLIGHT
TZOFFSETFROM:-0800
TZOFFSETTO:-0700
TZNAME:PDT
DTSTART:20220313T100000
END:DAYLIGHT
BEGIN:STANDARD
TZOFFSETFROM:-0700
TZOFFSETTO:-0800
TZNAME:PST
DTSTART:20221106T090000
END:STANDARD
BEGIN:DAYLIGHT
TZOFFSETFROM:-0800
TZOFFSETTO:-0700
TZNAME:PDT
DTSTART:20230312T100000
END:DAYLIGHT
BEGIN:STANDARD
TZOFFSETFROM:-0700
TZOFFSETTO:-0800
TZNAME:PST
DTSTART:20231105T090000
END:STANDARD
BEGIN:DAYLIGHT
TZOFFSETFROM:-0800
TZOFFSETTO:-0700
TZNAME:PDT
DTSTART:20240310T100000
END:DAYLIGHT
BEGIN:STANDARD
TZOFFSETFROM:-0700
TZOFFSETTO:-0800
TZNAME:PST
DTSTART:20241103T090000
END:STANDARD
END:VTIMEZONE
BEGIN:VEVENT
DTSTART;TZID=America/Los_Angeles:20230607T170000
DTEND;TZID=America/Los_Angeles:20230728T190000
DTSTAMP:20260421T011750
CREATED:20230524T194720Z
LAST-MODIFIED:20230524T194720Z
UID:3096-1686157200-1690570800@events.kesq.com
SUMMARY:Creative Sizzle
DESCRIPTION:The Stephen Baumbach Gallery proudly presents “Creative Sizzle”. \nWe’re making this summer even hotter with a special collection of original works from some of the hottest artists in the desert.  This group show features abstract impressionist Roberto Amaral and five other Coachella Valley artists. \nThe exhibit runs from June 7 to July 29\, 2023.  Summer gallery hours are Monday – Friday\, 10am-2pm. \nJoin us at the opening reception on Wednesday\, June 7\, 2023 – 5pm-7pm\, to coincide with the Backstreet Art District’s First Wednesday Art Walk.  Light hors d’oeuvres and beverages will be provided. \nThe gallery is located at 4116 Matthew Drive\, Palm Springs\, (CA  92264).  During road construction\, please access the gallery using the service roads around The Estate Sale.  For more information\, please call 760-501-6806. \n 
URL:https://events.kesq.com/event/creative-sizzle/
LOCATION:Stephen Baumbach Gallery\, 4116 Matthew Dr\, Palm Springs\, 92264
CATEGORIES:Art and Exhibits
ATTACH;FMTTYPE=image/jpeg:https://events.kesq.com/wp-content/uploads/2023/05/creatives.jpg
ORGANIZER;CN="Stephen Baumbach":MAILTO:info@stephenbaumbachgallery.com
END:VEVENT
BEGIN:VEVENT
DTSTART;TZID=America/Los_Angeles:20230712T190000
DTEND;TZID=America/Los_Angeles:20230712T203000
DTSTAMP:20260421T011750
CREATED:20230329T015546Z
LAST-MODIFIED:20230510T022513Z
UID:2645-1689188400-1689193800@events.kesq.com
SUMMARY:Canned Heat
DESCRIPTION:Legendary blues rock band Canned Heat LIVE in Palm Springs\n\n\nFounded in 1966\, Canned Heat rose to fame because their knowledge and love of blues music was both wide and deep. Canned Heat attained three worldwide hits with their rock anthems “On The Road Again\,” “Going Up The Country\,” and “Let’s Work Together.” They secured their niche in rock ‘n roll history with their performances at the 1967 Monterey Pop Festival and a headlining slot at the original Woodstock Festival in 1969. \n \nNow\, more than fifty years later and with forty albums to their credit\, Canned Heat is still going strong. They have been anchored throughout the past fifty-three years by the steady hand of drummer/band leader and historian\, Adolfo “Fito” de la Parra. Continuing on into his twelfth year\, New Orleans’ legend\, Dale Spalding is on harmonica\, guitar and lead vocals and for the past two years\, inventive bassist\, Rick Reed became part of the lineup after stints with Paul Butterfield\, John Mayall and the Chicago Blues Reunion. The newest addition on lead guitar and vocals is the incredible Jimmy Vivino. Jimmy is best known for his 28 year association as guitarist\, arranger and music director for Late Night with Conan O’Brien. Before that\, he had a 20 year career playing with artists including Al Kooper\, Charlie Musselwhite\, Michael McDonald and many others. \n \nCanned Heat remains committed to delighting their fans with creativity and musical energy as they continue to play “live” throughout the U.S. and around the world.
URL:https://events.kesq.com/event/canned-heat/
LOCATION:Agua Caliente Casino Palm Springs\, 401 East Amado Road\, Palm Springs\, CA\, 92262\, United States
ATTACH;FMTTYPE=image/jpeg:https://events.kesq.com/wp-content/uploads/2023/03/2423f6ff94ed048ce89902c14525aba8-zah1Py.tmp_.jpg
END:VEVENT
BEGIN:VEVENT
DTSTART;TZID=America/Los_Angeles:20230712T190000
DTEND;TZID=America/Los_Angeles:20230712T203000
DTSTAMP:20260421T011750
CREATED:20230510T022513Z
LAST-MODIFIED:20230712T025536Z
UID:3028-1689188400-1689193800@events.kesq.com
SUMMARY:The Dreamboats Record Release Party
DESCRIPTION:The Dreamboats record release party and show LIVE in Palm Springs\n\n\nGet ready for a night of retro-inspired music and non-stop dancing at the Dreamboats Record Release party on Wednesday\, July 12th at Agua Caliente Casino in Palm Springs! Doors open at 6 pm\, and the show starts at 7 pm. \nHailing from Canada\, the quartet of modern-day crooners will transport you back in time with their award-winning tunes that pay homage to the music of the 50s and 60s. Their sound is a unique blend of Chuck Berry and The Wonders that will have you grooving all night long! \nThe Dreamboats have taken their high-energy show on the road\, performing across Europe and California\, and are now bringing their talents to Palm Springs. Their on-stage antics and stories from their travels\, like performing at Liverpool’s legendary Cavern Club and swimming in Elvis Presley’s pool\, make for an unforgettable experience. \nDon’t miss this opportunity to see The Dreamboats live and experience the revival of timeless rock n’ roll sounds that will get you moving and grooving all night long. Get your tickets now!
URL:https://events.kesq.com/event/the-dreamboats-record-release-party/
LOCATION:Agua Caliente Casino Palm Springs\, 401 East Amado Road\, Palm Springs\, CA\, 92262\, United States
ATTACH;FMTTYPE=image/jpeg:https://events.kesq.com/wp-content/uploads/2023/05/40bbae423b11a068ef4808eb32201b9f-Z3VkmQ.tmp_.jpg
END:VEVENT
END:VCALENDAR