BEGIN:VCALENDAR
VERSION:2.0
PRODID:-//KESQ Events - ECPv6.15.20//NONSGML v1.0//EN
CALSCALE:GREGORIAN
METHOD:PUBLISH
X-WR-CALNAME:KESQ Events
X-ORIGINAL-URL:https://events.kesq.com
X-WR-CALDESC:Events for KESQ Events
REFRESH-INTERVAL;VALUE=DURATION:PT1H
X-Robots-Tag:noindex
X-PUBLISHED-TTL:PT1H
BEGIN:VTIMEZONE
TZID:America/Los_Angeles
BEGIN:DAYLIGHT
TZOFFSETFROM:-0800
TZOFFSETTO:-0700
TZNAME:PDT
DTSTART:20220313T100000
END:DAYLIGHT
BEGIN:STANDARD
TZOFFSETFROM:-0700
TZOFFSETTO:-0800
TZNAME:PST
DTSTART:20221106T090000
END:STANDARD
BEGIN:DAYLIGHT
TZOFFSETFROM:-0800
TZOFFSETTO:-0700
TZNAME:PDT
DTSTART:20230312T100000
END:DAYLIGHT
BEGIN:STANDARD
TZOFFSETFROM:-0700
TZOFFSETTO:-0800
TZNAME:PST
DTSTART:20231105T090000
END:STANDARD
BEGIN:DAYLIGHT
TZOFFSETFROM:-0800
TZOFFSETTO:-0700
TZNAME:PDT
DTSTART:20240310T100000
END:DAYLIGHT
BEGIN:STANDARD
TZOFFSETFROM:-0700
TZOFFSETTO:-0800
TZNAME:PST
DTSTART:20241103T090000
END:STANDARD
END:VTIMEZONE
BEGIN:VEVENT
DTSTART;TZID=America/Los_Angeles:20230607T170000
DTEND;TZID=America/Los_Angeles:20230728T190000
DTSTAMP:20260422T220932
CREATED:20230524T194720Z
LAST-MODIFIED:20230524T194720Z
UID:3096-1686157200-1690570800@events.kesq.com
SUMMARY:Creative Sizzle
DESCRIPTION:The Stephen Baumbach Gallery proudly presents “Creative Sizzle”. \nWe’re making this summer even hotter with a special collection of original works from some of the hottest artists in the desert.  This group show features abstract impressionist Roberto Amaral and five other Coachella Valley artists. \nThe exhibit runs from June 7 to July 29\, 2023.  Summer gallery hours are Monday – Friday\, 10am-2pm. \nJoin us at the opening reception on Wednesday\, June 7\, 2023 – 5pm-7pm\, to coincide with the Backstreet Art District’s First Wednesday Art Walk.  Light hors d’oeuvres and beverages will be provided. \nThe gallery is located at 4116 Matthew Drive\, Palm Springs\, (CA  92264).  During road construction\, please access the gallery using the service roads around The Estate Sale.  For more information\, please call 760-501-6806. \n 
URL:https://events.kesq.com/event/creative-sizzle/
LOCATION:Stephen Baumbach Gallery\, 4116 Matthew Dr\, Palm Springs\, 92264
CATEGORIES:Art and Exhibits
ATTACH;FMTTYPE=image/jpeg:https://events.kesq.com/wp-content/uploads/2023/05/creatives.jpg
ORGANIZER;CN="Stephen Baumbach":MAILTO:info@stephenbaumbachgallery.com
END:VEVENT
BEGIN:VEVENT
DTSTART;TZID=America/Los_Angeles:20230726T180000
DTEND;TZID=America/Los_Angeles:20230726T220000
DTSTAMP:20260422T220932
CREATED:20230724T190047Z
LAST-MODIFIED:20230724T190047Z
UID:3514-1690394400-1690408800@events.kesq.com
SUMMARY:Maleza Mezcal Dinner with Divino Maguey
DESCRIPTION:Baja-inspired restaurant at Drift Palm Springs\, Maleza\, presents the second session of their mezcal dinner series in partnership with Divino Maguey on Wednesday\, July 26 at 6 p.m. featuring a three-course menu of elevated Baja-inspired dishes crafted by Chef Ysaac Ramirez paired with four artisanal Divino Maguey varietals. The evening will additionally include tunes by Coachella Valley-based duo Las Tias and live fire dancers.
URL:https://events.kesq.com/event/maleza-mezcal-dinner-with-divino-maguey/
LOCATION:Maleza\, 284 South Indian Canyon Drive\, Palm Springs\, 92262
CATEGORIES:Food and Drink
ATTACH;FMTTYPE=image/jpeg:https://events.kesq.com/wp-content/uploads/2023/07/Pool-3.jpg
ORGANIZER;CN="Drift Palm Springs":MAILTO:bbinternatx@gmail.com
END:VEVENT
BEGIN:VEVENT
DTSTART;TZID=America/Los_Angeles:20230726T190000
DTEND;TZID=America/Los_Angeles:20230726T203000
DTSTAMP:20260422T220932
CREATED:20230517T022509Z
LAST-MODIFIED:20230726T031136Z
UID:3077-1690398000-1690403400@events.kesq.com
SUMMARY:The Alvarez Band
DESCRIPTION:The Alvarez band debut in Palm Springs!\n\n\n Introducing The Alvarez Band\, an electrifying power trio based in Los Angeles. Led by the gutsy Andrew Alvarez on lead guitar and vocals\, this talented group specializes in BluesRock and original music\, delivering performances that will leave you spellbound. \n \nAndrew Alvarez commands the stage with a presence reminiscent of legends like Stevie Ray Vaughn and Johnny Winter. His guitar skills are nothing short of exceptional\, and he brings an incredible level of showmanship to his performances. Supported by a classic rhythm section that adds depth and power to their sound\, The Alvarez Band delivers a dynamic and captivating musical experience. \n \nNoteworthy young blues artists\, Andrew Alvarez has already graced the stage of prestigious venues such as The Coach House Concert Hall in San Juan Capistrano. Opening for renowned acts including Coco Montoya\, Albert Cummings\, The Fabulous Thunderbirds\, Dennis Jones Band\, and the talented Samantha Fish\, Alvarez stands as a testament to the enduring spirit of classic Blues Rock. \n \nIf you’re seeking a musical journey that blends raw energy\, virtuosic guitar playing\, and a commitment to keeping the spirit of Blues Rock alive\, look no further than The Alvarez Band. Don’t miss the chance to witness their electrifying performances; prepare to be thoroughly entertained and amazed. The Alvarez Band is a force to be reckoned with\, ensuring that the timeless sound of Blues Rock continues to captivate audiences.
URL:https://events.kesq.com/event/colleen-orender-band/
LOCATION:Agua Caliente Casino Palm Springs\, 401 East Amado Road\, Palm Springs\, CA\, 92262\, United States
ATTACH;FMTTYPE=image/jpeg:https://events.kesq.com/wp-content/uploads/2023/06/3824a4e3b4410ff8c36c414282a488b9-FEHFpf.tmp_.jpg
END:VEVENT
END:VCALENDAR