BEGIN:VCALENDAR
VERSION:2.0
PRODID:-//KESQ Events - ECPv6.15.20//NONSGML v1.0//EN
CALSCALE:GREGORIAN
METHOD:PUBLISH
X-ORIGINAL-URL:https://events.kesq.com
X-WR-CALDESC:Events for KESQ Events
REFRESH-INTERVAL;VALUE=DURATION:PT1H
X-Robots-Tag:noindex
X-PUBLISHED-TTL:PT1H
BEGIN:VTIMEZONE
TZID:America/Los_Angeles
BEGIN:DAYLIGHT
TZOFFSETFROM:-0800
TZOFFSETTO:-0700
TZNAME:PDT
DTSTART:20220313T100000
END:DAYLIGHT
BEGIN:STANDARD
TZOFFSETFROM:-0700
TZOFFSETTO:-0800
TZNAME:PST
DTSTART:20221106T090000
END:STANDARD
BEGIN:DAYLIGHT
TZOFFSETFROM:-0800
TZOFFSETTO:-0700
TZNAME:PDT
DTSTART:20230312T100000
END:DAYLIGHT
BEGIN:STANDARD
TZOFFSETFROM:-0700
TZOFFSETTO:-0800
TZNAME:PST
DTSTART:20231105T090000
END:STANDARD
BEGIN:DAYLIGHT
TZOFFSETFROM:-0800
TZOFFSETTO:-0700
TZNAME:PDT
DTSTART:20240310T100000
END:DAYLIGHT
BEGIN:STANDARD
TZOFFSETFROM:-0700
TZOFFSETTO:-0800
TZNAME:PST
DTSTART:20241103T090000
END:STANDARD
END:VTIMEZONE
BEGIN:VEVENT
DTSTART;TZID=America/Los_Angeles:20230803T010000
DTEND;TZID=America/Los_Angeles:20231005T190000
DTSTAMP:20260422T223147
CREATED:20230801T104203Z
LAST-MODIFIED:20231003T224044Z
UID:3573-1691024400-1696532400@events.kesq.com
SUMMARY:Jazzville Fall Season 2023 (Oct thru Dec)
DESCRIPTION:Jazzville  fall season tickets 2023. Own your seats for all 12 shows at 20% OFF the regular cost of all seats priced over $21.\n\n\nJazzville Season Tickets for Fall 2023: Oct 5 to Dec 28 \nOwn your seats for all 12 shows and get 20% OFF all seats priced over $21. \nEventbrite doesn’t provide a Season Ticket selling tool\, but we’ve made it easy… Simply purchase seats in your desired area and we’ll manually assign the best available. Then\, we’ll communicate by email to assign the exact seats that you want to own (as long as they are still available). That’s it! Your name will be on the guest list for each show\, and you become Jazzville royalty with our most sincere gratitude. \nBelow are the available season ticket options: \nFront Row Loungers: Regularly $780 – Season discount = $624 \nMain Floor: Regularly $560 – Season discount = $390 \nFront Upper: Regularly $480 – Season discount = $380 \nFront Hi Top: Regularly $480 – Season discount = $380 \nFront Booth: Regularly $420 – Season discount = $366 \nMid Room Hi Top: Regularly $380 – Season discount = $300 \nBar Front: Regularly $300 – Season discount = $240 \nSpeakeasy Hi Top: Regularly $216 – Season discount = $172 \nThis special ticket pricing offer ends Oct 5\, 2023 the first show day of the spring season of Jazzville. \nThere are no refunds on any show you may not be able to attend\, but you can transfer your seats to family and friends. Season ticket offer can’t be combined with any other incentive or discount offer. Programs subject to change without notice. \nComing to Jazzville this fall: \n\nOct 5 | Acoustic Asylum\nOct 12 | Crystal Lewis w/Quartet\nOct 19 | Lynda Kay (part of Modernism Week Preview)\nOct 26  | Dave Damiani’s “Jazz Nite” w/Dancers\nNov 2 | Yuko Mabuchi Trio\nNov 9 | Allan Harris w/Quartet\nNov 16 | Alex Mendham & His Orchestra\nNov 23 | (Dark for Thanksgiving)\nNov 30 | Greg Adams’ East Bay Soul – Sweet Soul Christmas\nDec 7 | Holly Street Stompers\nDec 14 | Margo Rey & All-Star Quintet – Latin Jazz Christmas\nDec 21 | Ginger & The Hoosier Daddys\nDec 28 | NUTTY
URL:https://events.kesq.com/event/jazzville-fall-season-2023-oct-thru-dec/
LOCATION:Agua Caliente Casino Palm Springs\, 401 East Amado Road\, Palm Springs\, CA\, 92262\, United States
ATTACH;FMTTYPE=image/jpeg:https://events.kesq.com/wp-content/uploads/2023/08/d6bcc02e2b9aed9b6b237a060df38611-2zLSNg.tmp_.jpg
END:VEVENT
BEGIN:VEVENT
DTSTART;TZID=America/Los_Angeles:20230822T090000
DTEND;TZID=America/Los_Angeles:20230915T160000
DTSTAMP:20260422T223147
CREATED:20230822T221743Z
LAST-MODIFIED:20230822T221743Z
UID:3721-1692694800-1694793600@events.kesq.com
SUMMARY:Art Exhibition: Out of the Fire
DESCRIPTION:Walter N Marks Center for the Art Presents : Out of the Fire\nA College of the Desert collaborative exhibition with Bill Schinsky Artist\, Veteran\, Founder and Director of Coachella Valley Art Center in Indio\, Carrie Tate-Meyer\, Director of COD TRIO Vet-SSS and Steven Macks Dilley artist and Executive Director of Veterans Art Project. \nMichael Aschenbrenner\, Vietnam Vet Paratrooper of the 101st Airborne Division\, Reginald Green\, U.S. Navy Veteran and Omar Columbus Operation Iraqi Freedom and Enduring Freedom Air Force Veteran \nExhibition:\nAugust 22nd – September 15th \nArtist Reception and Poetry Reading:\nSeptember 7th\, 4 – 6pm
URL:https://events.kesq.com/event/art-exhibition-out-of-the-fire/
LOCATION:Colllege of the Desert\, 43-500 Monterey Ave\, Palm Desert\, 92260
CATEGORIES:Art and Exhibits
ATTACH;FMTTYPE=image/jpeg:https://events.kesq.com/wp-content/uploads/2023/08/Invitation-out-of-Fire-1-scaled.jpg
ORGANIZER;CN="Marks Art Center":MAILTO:acalderon@collegeofthedesert.edu
END:VEVENT
BEGIN:VEVENT
DTSTART;TZID=America/Los_Angeles:20230830T180000
DTEND;TZID=America/Los_Angeles:20230830T220000
DTSTAMP:20260422T223147
CREATED:20230724T190202Z
LAST-MODIFIED:20230724T190202Z
UID:3518-1693418400-1693432800@events.kesq.com
SUMMARY:Maleza Mezcal Dinner with Convite
DESCRIPTION:Baja-inspired restaurant at Drift Palm Springs\, Maleza\, presents the third session of their mezcal dinner series in partnership with Convite Mezcal on Wednesday\, August 30 at 6 p.m. featuring a three-course menu of elevated Baja-inspired dishes crafted by Chef Ysaac Ramirez paired with four artisanal Convite varietals. The evening will additionally include tunes by Coachella Valley-based duo Las Tias and live fire dancers.
URL:https://events.kesq.com/event/maleza-mezcal-dinner-with-convite/
LOCATION:Maleza\, 284 South Indian Canyon Drive\, Palm Springs\, 92262
CATEGORIES:Food and Drink
ATTACH;FMTTYPE=image/jpeg:https://events.kesq.com/wp-content/uploads/2023/07/Pool-3-1.jpg
ORGANIZER;CN="Drift Palm Springs":MAILTO:bbinternatx@gmail.com
END:VEVENT
BEGIN:VEVENT
DTSTART;TZID=America/Los_Angeles:20230830T190000
DTEND;TZID=America/Los_Angeles:20230830T203000
DTSTAMP:20260422T223147
CREATED:20230726T031144Z
LAST-MODIFIED:20230830T044440Z
UID:3548-1693422000-1693427400@events.kesq.com
SUMMARY:Brad Mercer Band
DESCRIPTION:The Brad Mercer Band comes to Desert Blues Revival in Palm Springs\n\n\nRaised in LA\, the incredibly talented Brad Mercer began his music career at age five\, ultimately becoming a professional performer\, multi-instrumentalist\, singer/songwriter\, recording artist\, and popular radio personality in the Palm Springs area. He has recorded and produced six albums and toured throughout the nation as a gifted impressionist and comedian\, opening for Jay Leno\, George Carlin\, and Jeff Foxworthy. Brad is the recipient of the LA Music Awards\, “Best Rock DJ” and the “Alan Freed Lifetime Achievement Award.” His “Bands ‘N Fans” syndicated radio show helps unsigned and newly signed\, new country and country/rock indie artists from all over the world get airplay in 140 countries. \nTogether with his partner\, guitarist extraordinaire\, Peter Sutter\, they formed The Brad Mercer Band\, and perform a rousing live three-hour variety show and rock concert each week to a full house. With their spot-on classics and unique original songs from the Mercer & Sutter writing team\, the show is aptly called\, “The Brad Mercer Show.” Brad Mercer on vocals and multiple instruments\, Peter Sutter on lead guitar\, Gene Beavers on bass and vocals\, Chris “Guido” Carletto on keyboards and vocals\, Sue Lynn Mercer on vocals\, and Terry Dubas on drums and vocals.
URL:https://events.kesq.com/event/brad-mercer-band-2/
LOCATION:Agua Caliente Casino Palm Springs\, 401 East Amado Road\, Palm Springs\, CA\, 92262\, United States
ATTACH;FMTTYPE=image/jpeg:https://events.kesq.com/wp-content/uploads/2023/07/8da0c668876821c689394a00634c4846-Zu3Fil.tmp_.jpg
END:VEVENT
END:VCALENDAR