BEGIN:VCALENDAR
VERSION:2.0
PRODID:-//KESQ Events - ECPv6.15.20//NONSGML v1.0//EN
CALSCALE:GREGORIAN
METHOD:PUBLISH
X-WR-CALNAME:KESQ Events
X-ORIGINAL-URL:https://events.kesq.com
X-WR-CALDESC:Events for KESQ Events
REFRESH-INTERVAL;VALUE=DURATION:PT1H
X-Robots-Tag:noindex
X-PUBLISHED-TTL:PT1H
BEGIN:VTIMEZONE
TZID:America/Los_Angeles
BEGIN:DAYLIGHT
TZOFFSETFROM:-0800
TZOFFSETTO:-0700
TZNAME:PDT
DTSTART:20220313T100000
END:DAYLIGHT
BEGIN:STANDARD
TZOFFSETFROM:-0700
TZOFFSETTO:-0800
TZNAME:PST
DTSTART:20221106T090000
END:STANDARD
BEGIN:DAYLIGHT
TZOFFSETFROM:-0800
TZOFFSETTO:-0700
TZNAME:PDT
DTSTART:20230312T100000
END:DAYLIGHT
BEGIN:STANDARD
TZOFFSETFROM:-0700
TZOFFSETTO:-0800
TZNAME:PST
DTSTART:20231105T090000
END:STANDARD
BEGIN:DAYLIGHT
TZOFFSETFROM:-0800
TZOFFSETTO:-0700
TZNAME:PDT
DTSTART:20240310T100000
END:DAYLIGHT
BEGIN:STANDARD
TZOFFSETFROM:-0700
TZOFFSETTO:-0800
TZNAME:PST
DTSTART:20241103T090000
END:STANDARD
BEGIN:DAYLIGHT
TZOFFSETFROM:-0800
TZOFFSETTO:-0700
TZNAME:PDT
DTSTART:20250309T100000
END:DAYLIGHT
BEGIN:STANDARD
TZOFFSETFROM:-0700
TZOFFSETTO:-0800
TZNAME:PST
DTSTART:20251102T090000
END:STANDARD
END:VTIMEZONE
BEGIN:VEVENT
DTSTART;TZID=America/Los_Angeles:20231112T010000
DTEND;TZID=America/Los_Angeles:20240229T173000
DTSTAMP:20260419T071510
CREATED:20231115T091018Z
LAST-MODIFIED:20240228T164136Z
UID:4763-1699750800-1709227800@events.kesq.com
SUMMARY:Jazzville 5-Show Deal - Winter Season 2024 (January-March)
DESCRIPTION:10% OFF when you buy 5 shows for Jazzville´’s exciting Winter 2024 Season which runs from Jan 4 to March 28.\n\n\nJazzville is offering 10% OFF select seats when you buy 5 shows for our Winter 2024 season. \nSimply purchase your desired area on this page and then we’ll reach out to you by email to assign the shows and seats you want. We’ll lock in your seat details and add your name to the guest list for each night. Simple as that! \nBelow are the available season ticket options: \nMain Floor: Regularly $245 – Season discount = $220 \nFront Upper: Regularly $210 – Season discount = $189 \nFront Hi Top: Regularly $210 – Season discount = $189 \nSpeakeasy Hi Top: Regularly $100 – Season discount = $90 \nThis special ticket pricing offer ends February 29\, 2024. \nNo refunds\, but you can transfer your seats to family and friends if you can’t make it. Season ticket offer can’t be combined with any other discount.
URL:https://events.kesq.com/event/jazzville-5-show-winter-season-2024-discount-deal-january-march/
LOCATION:Agua Caliente Casino Palm Springs\, 401 East Amado Road\, Palm Springs\, CA\, 92262\, United States
ATTACH;FMTTYPE=image/jpeg:https://events.kesq.com/wp-content/uploads/2023/08/6e29a39d4934f6c5ae186799f0cbe0c4-tS7267.tmp_.jpg
END:VEVENT
BEGIN:VEVENT
DTSTART;TZID=America/Los_Angeles:20240119T200000
DTEND;TZID=America/Los_Angeles:20240119T213000
DTSTAMP:20260419T071510
CREATED:20231010T190759Z
LAST-MODIFIED:20231010T201800Z
UID:4255-1705694400-1705699800@events.kesq.com
SUMMARY:The Righteous Brothers
DESCRIPTION:One of the most successful duos in pop music history\, the Righteous Brothers\, are bringing that lovin’ feelin’ back to Fantasy Springs Resort Casino’s Special Events Center on Friday\, January 19\, 2024.
URL:https://events.kesq.com/event/the-righteous-brothers/
LOCATION:Fantasy Springs Resort Casino\, 84-245 Indio Springs Pkwy\, Indio\, CA\, 92203\, United States
CATEGORIES:Music
ATTACH;FMTTYPE=image/jpeg:https://events.kesq.com/wp-content/uploads/2023/10/RighteousDigitalAd676x375.jpg
ORGANIZER;CN="Fantasy Springs Casino":MAILTO:kathleen.huber@kesq.com
END:VEVENT
BEGIN:VEVENT
DTSTART;TZID=America/Los_Angeles:20240119T200000
DTEND;TZID=America/Los_Angeles:20240119T213000
DTSTAMP:20260419T071510
CREATED:20231018T061221Z
LAST-MODIFIED:20240117T145612Z
UID:4586-1705694400-1705699800@events.kesq.com
SUMMARY:Maxx Eddy Headlines Caliente Comedy
DESCRIPTION:Don’t miss the hilarious Maxx Eddy headline Caliente Comedy at Agua Caliente Casino Palm Springs!\n\n\nMax is a queer stand-up comedian based in the Bay Area comedy scene. His act primarily focuses on the queer experience in San Francisco\, living with his parents during the pandemic\, and the foibles of his infamous stepdad\, Dino Dan. \nMax is a regular at The Setup\, San Francisco’s preeminent indie comedy club\, where he has opened for the likes of Taylor Tomlinson\, Jamie Kennedy and Shane Torres. Max has previously performed at SF Sketchfest and the Portland Queer Comedy Festival. He streams regularly on Twitch\, where he is in the top 1% of streamers in followers and concurrent viewership. \n \nHis dynamic stage presence and his sharp writing interweave to create a one-of-a-kind live experience for any audience. Whether he’s poking fun at his bisexual dating life or telling tales of the three extra years he spent with his parents\, Maxx brings it \nMaxx is a paid regular at San Francisco Punch Line\, Cobb’s Comedy Club and the San Jose Improv\, and he has opened for Tim Dillon\, Jinkx Monsoon\, and Doug Stanhope. Stanhope once tweeted that Maxx was a “very funny kid\,” and Maxx regularly opens for Doug on his California dates.Maxx was a featured performer at San Francisco Sketchfest and Atlanta’s Laughing Skull Comedy Festival\, as well as a finalist in the prestigious San Francisco International Comedy Competition. \nMaxx is also jacked. Like\, it’s intimidating. Borderline off-putting. \n \nCaliente Comedy features some of the biggest touring comics from all around the world. Each show is 90 minutes complete with openers and a headlining act. Every Friday night you can plan on laughing until your face hurts with well known comics from Comedy Central\, Netflix\, HBO\, SNL\, Conan\, America’s Got Talent\, Showtime and more. \nCaliente Comedy at the Cascade Lounge offers state-of-the-art sound and lighting with pristine acoustics and plush seating. \n \nTicket Perks: \n*All tickets include FREE and early admission to Agua Caliente Casino Palm Springs “Cascade Nights” nightclub beginning at 10pm inside the Cascade Lounge after Comedy ends. \n*FREE VALET PARKING \n*NO DRINK MINIMUM \n \nThings to know before you go: \n• Must be 21 or over. \n• Doors open at 7pm with a 8pm showtime. \n• Take out food menu available for dining inside the show. \n• Table-side cocktail service available so you don’t miss out on any laughs. \n• No refunds except for COVID-related shutdown. \n• FREE VALET and self-park covered parking in attached garage. \n• Tickets are non-refundable. \n• The Cascade Lounge is a non-smoking environment. \n \nFor Box Office\, Questions\, and Group Inquiries Call (951) 494-0116
URL:https://events.kesq.com/event/mike-faverman-headlines-caliente-comedy/
LOCATION:Agua Caliente Casino Palm Springs\, 401 East Amado Road\, Palm Springs\, CA\, 92262\, United States
ATTACH;FMTTYPE=image/jpeg:https://events.kesq.com/wp-content/uploads/2024/01/1d37b46cbdff05fc6f08d5c688549fb6-t3brsl.tmp_.jpg
END:VEVENT
END:VCALENDAR