BEGIN:VCALENDAR
VERSION:2.0
PRODID:-//KESQ Events - ECPv6.15.20//NONSGML v1.0//EN
CALSCALE:GREGORIAN
METHOD:PUBLISH
X-ORIGINAL-URL:https://events.kesq.com
X-WR-CALDESC:Events for KESQ Events
REFRESH-INTERVAL;VALUE=DURATION:PT1H
X-Robots-Tag:noindex
X-PUBLISHED-TTL:PT1H
BEGIN:VTIMEZONE
TZID:America/Los_Angeles
BEGIN:DAYLIGHT
TZOFFSETFROM:-0800
TZOFFSETTO:-0700
TZNAME:PDT
DTSTART:20240310T100000
END:DAYLIGHT
BEGIN:STANDARD
TZOFFSETFROM:-0700
TZOFFSETTO:-0800
TZNAME:PST
DTSTART:20241103T090000
END:STANDARD
BEGIN:DAYLIGHT
TZOFFSETFROM:-0800
TZOFFSETTO:-0700
TZNAME:PDT
DTSTART:20250309T100000
END:DAYLIGHT
BEGIN:STANDARD
TZOFFSETFROM:-0700
TZOFFSETTO:-0800
TZNAME:PST
DTSTART:20251102T090000
END:STANDARD
BEGIN:DAYLIGHT
TZOFFSETFROM:-0800
TZOFFSETTO:-0700
TZNAME:PDT
DTSTART:20260308T100000
END:DAYLIGHT
BEGIN:STANDARD
TZOFFSETFROM:-0700
TZOFFSETTO:-0800
TZNAME:PST
DTSTART:20261101T090000
END:STANDARD
END:VTIMEZONE
BEGIN:VEVENT
DTSTART;VALUE=DATE:20250131
DTEND;VALUE=DATE:20250203
DTSTAMP:20260422T202504
CREATED:20250131T194244Z
LAST-MODIFIED:20250131T194244Z
UID:8596-1738281600-1738540799@events.kesq.com
SUMMARY:Taste of Jalisco
DESCRIPTION:Cathedral City has finalized its programming for its weekend-long\, family-friendly Taste of Jalisco Festival (TOJ)\, running from Friday\, January 31 through Sunday\, February 2\, 2025. The ninth edition of the event celebrates the sights\, sounds\, and tastes of its sister city Tequila in Jalisco\, Mexico\, honoring the 28-year relationship between the two cities through culture\, art\, cuisine\, music\, and fashion. Following the announcement of the headliners last month\, the Festival has finalized programming on TWO stages. Doors Open at 5:00PM Friday\, and Noon Saturday and Sunday. All programming takes place at Cathedral City Town Square Park and environs and the Cathedral City Community Amphitheater. \nThe Festival previously announced its two major headline events: A performance by Banda Maguey with Nacho Bustillosopening on Saturday\, February 1 and the “Legends of Lucha Libre Live” wrestling showcase presented by Masked Republicon Sunday February 2. Tickets for these marquee events at the Community Amphitheater are $29 and include free festival admission. General admission tickets do not include the headliners\, but headliner tickets do include free festival admission. Parking is free.
URL:https://events.kesq.com/event/taste-of-jalisco/
LOCATION:Cathedral City Community Amphitheater\, 68526 Ave Lalo Guerrero\, Cathedral City\, 92234
CATEGORIES:Fairs and Festivals
ATTACH;FMTTYPE=image/jpeg:https://events.kesq.com/wp-content/uploads/2025/01/Taste-of-Jalisco.jpg
END:VEVENT
END:VCALENDAR