BEGIN:VCALENDAR
VERSION:2.0
PRODID:-//KESQ Events - ECPv6.15.20//NONSGML v1.0//EN
CALSCALE:GREGORIAN
METHOD:PUBLISH
X-WR-CALNAME:KESQ Events
X-ORIGINAL-URL:https://events.kesq.com
X-WR-CALDESC:Events for KESQ Events
REFRESH-INTERVAL;VALUE=DURATION:PT1H
X-Robots-Tag:noindex
X-PUBLISHED-TTL:PT1H
BEGIN:VTIMEZONE
TZID:America/Los_Angeles
BEGIN:DAYLIGHT
TZOFFSETFROM:-0800
TZOFFSETTO:-0700
TZNAME:PDT
DTSTART:20240310T100000
END:DAYLIGHT
BEGIN:STANDARD
TZOFFSETFROM:-0700
TZOFFSETTO:-0800
TZNAME:PST
DTSTART:20241103T090000
END:STANDARD
BEGIN:DAYLIGHT
TZOFFSETFROM:-0800
TZOFFSETTO:-0700
TZNAME:PDT
DTSTART:20250309T100000
END:DAYLIGHT
BEGIN:STANDARD
TZOFFSETFROM:-0700
TZOFFSETTO:-0800
TZNAME:PST
DTSTART:20251102T090000
END:STANDARD
BEGIN:DAYLIGHT
TZOFFSETFROM:-0800
TZOFFSETTO:-0700
TZNAME:PDT
DTSTART:20260308T100000
END:DAYLIGHT
BEGIN:STANDARD
TZOFFSETFROM:-0700
TZOFFSETTO:-0800
TZNAME:PST
DTSTART:20261101T090000
END:STANDARD
END:VTIMEZONE
BEGIN:VEVENT
DTSTART;TZID=America/Los_Angeles:20250219T080000
DTEND;TZID=America/Los_Angeles:20250219T170000
DTSTAMP:20260423T124430
CREATED:20240722T231216Z
LAST-MODIFIED:20240722T231216Z
UID:6684-1739952000-1739984400@events.kesq.com
SUMMARY:Modernism Week
DESCRIPTION:Modernism Week will celebrate its twentieth year at its annual festival that takes place Thursday\, February 13 through Sunday\, February 23\, 2025. The 11-day festival will feature more than 400 events including the Palm Springs Modernism Show\, tours of iconic homes in dozens of historic neighborhoods\, the Palm Springs Signature Home Tour\, double-decker bus tours\, and much more. Other events include architectural walking\, biking and bus tours\, tours of the historic Annenberg Estate at Sunnylands\, a classic car show\, a vintage trailer show\, garden tours\, nightly parties\, and a special series of compelling and informative talks. All events are open to the public\, and many events are free or low cost. Tickets will go on sale November 1\, 2024 and will be available at modernismweek.com.
URL:https://events.kesq.com/event/modernism-week/2025-02-19/
LOCATION:Various locations
CATEGORIES:Fairs and Festivals
ATTACH;FMTTYPE=image/jpeg:https://events.kesq.com/wp-content/uploads/2024/07/Double-Decker-Bus-Tour-photo-by-David-Dixon-1.jpg
ORGANIZER;CN="Modernism Week":MAILTO:info@modernismweek.com
END:VEVENT
BEGIN:VEVENT
DTSTART;TZID=America/Los_Angeles:20250219T180000
DTEND;TZID=America/Los_Angeles:20250220T180000
DTSTAMP:20260423T124430
CREATED:20241024T015716Z
LAST-MODIFIED:20241024T015716Z
UID:7580-1739988000-1740074400@events.kesq.com
SUMMARY:Tickets Now Available For LA Art Show 2025\, Celebrating Its Milestone 30th Year
DESCRIPTION:LA Art Show\, LA’s largest and longest-running art fair\, returns to the Los Angeles Convention Center on February 19 to 23\, 2025 in celebration of its 30th anniversary. LA Art Show honors three decades of bringing artists\, galleries\, and collectors from across the world to Los Angeles for the best in contemporary and modern art with the 2025 edition promising the most diverse showcase of global talent yet. Tickets are now live at www.laartshow.com and attendees can look forward to a thoughtfully curated selection of galleries along with dynamic programming that reflects the evolving landscape of contemporary art. \nUnder the direction of talented producer & director Kassandra Voyagis\, LA Art Show’s ever-expanding global reach will be on display with exhibitors from many countries including Turkey\, Spain\, Belgium\, Japan\, Canada\, France\, Taiwan\, London\, Italy\, Switzerland and the Netherlands. \nLA Art Show’s signature non-commercial platform DIVERSEartLA\, curated by Marisa Caichiolo\, will be back for 2025 with a compelling retrospective\, reflecting its transformative journey over the past eight years. Born out of a necessity to amplify marginalized perspectives\, this celebratory exhibition is not merely a look back; it is a call to action\, emphasizing the importance of diverse representation and continued advocacy for inclusivity in the arts. The retrospective serves as a mirror reflecting the evolution of the platform’s curatorial vision with each piece representing a significant milestone that challenges the status quo and encourages critical conversations around race\, gender\, and the complexities of modern existence. Past exhibitors include LACMA Museum\, AMA Museum Washington DC\, The Broad Museum and Japanese American National Museum\, to name a few. \nWith over 100 galleries\, museums and nonprofits exhibiting\, LA Art Show is the most comprehensive contemporary art experience and the 2025 edition will feature continued collaborations while welcoming new participants. LA Art Show 2025 presents local and international galleries including LICHT FELD Gallery (Switzerland); Gama Gallery (Turkey)\, Rebecca Hossack Art Gallery (UK)\, L.E. Gallery (Belgium)\, K+Y Contemporary Art (Paris)\, Casterline|Goodman Gallery (Aspen)\, Arcadia Contemporary (New York) and Fabrik Projects (Los Angeles). \nTwo key partnerships return for the 2025 show\, which are Athletes for Life™ who will continue their youth empowerment programs through art\, while the American Heart Association will once again serve as the charity beneficiary\, receiving 15% of proceeds from every ticket sold for their Life is Why ™ campaign.
URL:https://events.kesq.com/event/tickets-now-available-for-la-art-show-2025-celebrating-its-milestone-30th-year/2025-02-19/
LOCATION:Los Angeles Convention Center – South Hall\, 1201 S. Figueroa Street\, Los Angeles\, CA\, 90015\, United States
CATEGORIES:Art and Exhibits
ATTACH;FMTTYPE=image/jpeg:https://events.kesq.com/wp-content/uploads/2024/10/LAA2015-IMG_3357-1.jpg
ORGANIZER;CN="LAArtShow":MAILTO:info@laartshow.com
END:VEVENT
BEGIN:VEVENT
DTSTART;TZID=America/Los_Angeles:20250219T190000
DTEND;TZID=America/Los_Angeles:20250219T203000
DTSTAMP:20260423T124430
CREATED:20241010T224556Z
LAST-MODIFIED:20241227T021632Z
UID:7443-1739991600-1739997000@events.kesq.com
SUMMARY:Laurie Morvan Band
DESCRIPTION:LIVE in Palm Springs!\n\n\nLaurie Morvan\, a Blues Foundation Award winner\, ignites the stage with her electrifying guitar-driven blues and infectious swagger. With a career steeped in true craftsmanship\, Laurie captivates audiences as a musical ringmaster\, leading her impeccably tight band through a thrilling journey of twists and turns. Their chemistry is palpable\, honed over years of performances that have spanned the USA\, Canada\, Mexico\, and Europe. \nFrom headlining renowned blues festivals like King Biscuit Blues Festival and Calgary Bluesfest to dazzling crowds at Magic City Blues Fest and Thunder Bay Blues Festival\, Laurie Morvan and her band are seasoned pros. Her albums\, critically acclaimed since bursting onto the national blues scene in 2008\, have garnered numerous awards and nominations. Her latest release\, “Gravity\,” produced by Grammy and BMA Award winner Tony Braunagel\, showcases 12 originals that shimmy and sizzle with Laurie’s soulful\, effervescent style. \n“Gravity” has soared on the Top 50 Blues-Rock Radio Chart for nearly a year\, earned a coveted spot on the 1st Round Grammy Ballot for Best Contemporary Blues Album\, and scored a nomination for Best Blues Album in the esteemed DownBeat Reader’s Poll. Laurie Morvan promises a night of blues that’s not just music\, but a high-energy experience that leaves audiences mesmerized and wanting more. \n \n \nDesert Blues Revival at the Cascade Lounge offers state-of-the-art sound and lighting with pristine acoustics\, unobstructed sight lines\, and plush seating. \nThings to know before you go: \n• Must be 21 or over. \n• Doors open at 6pm with a 7pm showtime. Feel free to arrive early to enjoy drinks! \n• Drinks served throughout the show\, there is no minimum order. \n• No refunds except for COVID-related shutdown. \n• Free covered parking in attached garage. \nWe cannot take cash at the door (casino policy). We can accept credit cards at the door if seats are available. \nOur shows can sell out\, so pick your seats today by clicking BUY ON MAP! If you ignore the seating chart\, then the best available seats will be assigned to you. \nNo one under 21 admitted. Tickets are non-refundable. Line-up subject to change without notice. \nThe casino allows smoking but there is no smoking in the Cascade Lounge \nFood is not served in the Cascade Lounge but can be brought in from any of the casino restaurants. We do have a full bar with no drink minimums.
URL:https://events.kesq.com/event/copy-of-laurie-morvan/
LOCATION:Agua Caliente Casino Palm Springs\, 401 East Amado Road\, Palm Springs\, CA\, 92262\, United States
ATTACH;FMTTYPE=image/jpeg:https://events.kesq.com/wp-content/uploads/2024/08/170ed873e6174eef55b6f7e623d8ccaf-nMRg3A.tmp_.jpg
END:VEVENT
END:VCALENDAR