BEGIN:VCALENDAR
VERSION:2.0
PRODID:-//KESQ Events - ECPv6.15.20//NONSGML v1.0//EN
CALSCALE:GREGORIAN
METHOD:PUBLISH
X-ORIGINAL-URL:https://events.kesq.com
X-WR-CALDESC:Events for KESQ Events
REFRESH-INTERVAL;VALUE=DURATION:PT1H
X-Robots-Tag:noindex
X-PUBLISHED-TTL:PT1H
BEGIN:VTIMEZONE
TZID:America/Los_Angeles
BEGIN:DAYLIGHT
TZOFFSETFROM:-0800
TZOFFSETTO:-0700
TZNAME:PDT
DTSTART:20240310T100000
END:DAYLIGHT
BEGIN:STANDARD
TZOFFSETFROM:-0700
TZOFFSETTO:-0800
TZNAME:PST
DTSTART:20241103T090000
END:STANDARD
BEGIN:DAYLIGHT
TZOFFSETFROM:-0800
TZOFFSETTO:-0700
TZNAME:PDT
DTSTART:20250309T100000
END:DAYLIGHT
BEGIN:STANDARD
TZOFFSETFROM:-0700
TZOFFSETTO:-0800
TZNAME:PST
DTSTART:20251102T090000
END:STANDARD
BEGIN:DAYLIGHT
TZOFFSETFROM:-0800
TZOFFSETTO:-0700
TZNAME:PDT
DTSTART:20260308T100000
END:DAYLIGHT
BEGIN:STANDARD
TZOFFSETFROM:-0700
TZOFFSETTO:-0800
TZNAME:PST
DTSTART:20261101T090000
END:STANDARD
END:VTIMEZONE
BEGIN:VEVENT
DTSTART;TZID=America/Los_Angeles:20250926T090000
DTEND;TZID=America/Los_Angeles:20250926T110000
DTSTAMP:20260423T211349
CREATED:20250922T215309Z
LAST-MODIFIED:20250922T215309Z
UID:10058-1758877200-1758884400@events.kesq.com
SUMMARY:FIND Foodbank Expansion Ribbon Cutting
DESCRIPTION:Join us this Friday and help us welcome the ribbon cutting of the new FIND Foodbank expansion. As the organization increases food storage capacity. This new space will help with bigger donations\, ensuring a greater impact on feeding the community. This event is free to the public so come support the new expansion of this facility and join us on September 26\, this Friday!
URL:https://events.kesq.com/event/find-foodbank-expansion-ribbon-cutting/
LOCATION:CA
CATEGORIES:Community
END:VEVENT
BEGIN:VEVENT
DTSTART;TZID=America/Los_Angeles:20250926T110000
DTEND;TZID=America/Los_Angeles:20250926T200000
DTSTAMP:20260423T211349
CREATED:20250922T200745Z
LAST-MODIFIED:20250922T200745Z
UID:9997-1758884400-1758916800@events.kesq.com
SUMMARY:18th Annual Palm Springs Body Mind Spirit Weekend
DESCRIPTION:The 18th Annual Palm Springs Body Mind Spirit Weekend will be held September 26-28 2025 at Crystal Fantasy Enlightenment Center in downtown Palm Springs\, California.\n.\nThe weekend event opens on Friday September 26 with readers and healers and followed by an Energy Clearing Drum Circle with Sound Healer Scott Meredith. The following 2 days feature many diverse and eclectic offerings geared toward Alternative Healing and Intuitive Arts and Services like Mediumship\, Tarot\, Angels & Spirit Guides\, Reiki Healing\, Crystals\, Numerology\, Sound Healing\, Astrology\, Oracles\, Crystal Healing\, Chakra Balancing\, Palmistry\, Astrology\, Pendulums\, Art\, Crafts and Jewelry along with spiritual counselors\, readers\, workshops\, circles and classes.\n.\nThe event offers love donation based consultations with healers\, readers\, and spiritual counselors. Friday September 26\, Saturday September 27 and Sunday September 28.\n.\nAt our last event over 500 people experienced this exciting\, yet intimate\, Palm Springs gathering of spiritual counselors\, wellness professionals\, healers\, and seekers.\n.\nAlthough we do our best to keep you informed\, the schedule may change without notice.\n.\nFull schedule available at www.CrystalFantasy.com/events
URL:https://events.kesq.com/event/18th-annual-palm-springs-body-mind-spirit-weekend/2025-09-26/
LOCATION:Crystal Fantasy\, 268 N Palm Canyon Drive\, Palm Springs\, CA\, 92262
CATEGORIES:Community
ATTACH;FMTTYPE=image/jpeg:https://events.kesq.com/wp-content/uploads/2025/09/dr8KuXyTRE6HymK9l7DyvA.large_.jpg
END:VEVENT
BEGIN:VEVENT
DTSTART;TZID=America/Los_Angeles:20250926T163000
DTEND;TZID=America/Los_Angeles:20250926T190000
DTSTAMP:20260423T211349
CREATED:20250922T231539Z
LAST-MODIFIED:20250922T231539Z
UID:10104-1758904200-1758913200@events.kesq.com
SUMMARY:Annual Desert Recreation Foundation Bowling Fundraiser
DESCRIPTION:It’s Back…PRIZE FOR BEST TEAM BOWLING SHIRTS!\nProceeds Benefit Parks & Recreation Access to All! \nCheck-in opens at 4:30 p.m.\nBowling begins at 5 p.m. to 7 p.m.\n$750 per lane/team of up to 5 bowlers\n(includes shoe rental\, food and soft drinks)\nRaffle and Prizes!\nDesert Recreation Foundation is a 501(c)3 organization. Tax ID# 91-2143285\nDesert Recreation Foundation believes parks\, recreation opportunities\, and learning programs should be available to everyone in our community\, no matter their income level or ability. \nIt’s Back…PRIZE FOR BEST TEAM BOWLING SHIRTS!
URL:https://events.kesq.com/event/annual-desert-recreation-foundation-bowling-fundraiser/
LOCATION:Fantasy Lanes\, 84-245 Indio Springs Pkwy\, Indio\, 92203\, United States
CATEGORIES:Fundraisers and Galas
ATTACH;FMTTYPE=image/jpeg:https://events.kesq.com/wp-content/uploads/2025/09/DRF-Bowling.jpg
END:VEVENT
END:VCALENDAR