BEGIN:VCALENDAR
VERSION:2.0
PRODID:-//KESQ Events - ECPv6.15.20//NONSGML v1.0//EN
CALSCALE:GREGORIAN
METHOD:PUBLISH
X-ORIGINAL-URL:https://events.kesq.com
X-WR-CALDESC:Events for KESQ Events
REFRESH-INTERVAL;VALUE=DURATION:PT1H
X-Robots-Tag:noindex
X-PUBLISHED-TTL:PT1H
BEGIN:VTIMEZONE
TZID:America/Los_Angeles
BEGIN:DAYLIGHT
TZOFFSETFROM:-0800
TZOFFSETTO:-0700
TZNAME:PDT
DTSTART:20240310T100000
END:DAYLIGHT
BEGIN:STANDARD
TZOFFSETFROM:-0700
TZOFFSETTO:-0800
TZNAME:PST
DTSTART:20241103T090000
END:STANDARD
BEGIN:DAYLIGHT
TZOFFSETFROM:-0800
TZOFFSETTO:-0700
TZNAME:PDT
DTSTART:20250309T100000
END:DAYLIGHT
BEGIN:STANDARD
TZOFFSETFROM:-0700
TZOFFSETTO:-0800
TZNAME:PST
DTSTART:20251102T090000
END:STANDARD
BEGIN:DAYLIGHT
TZOFFSETFROM:-0800
TZOFFSETTO:-0700
TZNAME:PDT
DTSTART:20260308T100000
END:DAYLIGHT
BEGIN:STANDARD
TZOFFSETFROM:-0700
TZOFFSETTO:-0800
TZNAME:PST
DTSTART:20261101T090000
END:STANDARD
END:VTIMEZONE
BEGIN:VEVENT
DTSTART;TZID=America/Los_Angeles:20251114T200000
DTEND;TZID=America/Los_Angeles:20251114T220000
DTSTAMP:20260424T001929
CREATED:20250618T224728Z
LAST-MODIFIED:20250819T234856Z
UID:9501-1763150400-1763157600@events.kesq.com
SUMMARY:Public Enemy
DESCRIPTION:Hip-hop and rap legends Public Enemy\, members of the Rock and Roll Hall of Fame and recipients of the GRAMMY Lifetime Achievement Award\, have earned platinum records and played sold-out shows across the globe. But their greatest legacy goes beyond accolades and achievements—it’s their unwavering commitment to speaking out against social injustice and amplifying the voices of the oppressed. Known for their powerful messages and bold activism\, Public Enemy will bring their electrifying performance to the Special Events Center at Fantasy Springs Resort Casino on Saturday\, September 6\, 2025.
URL:https://events.kesq.com/event/public-enemy/
LOCATION:Fantasy Springs Resort Casino\, 84-245 Indio Springs Pkwy\, Indio\, CA\, 92203\, United States
CATEGORIES:Music
ATTACH;FMTTYPE=image/jpeg:https://events.kesq.com/wp-content/uploads/2025/06/PublicEnemy_DigitalAd_676x375.jpg
END:VEVENT
BEGIN:VEVENT
DTSTART;TZID=America/Los_Angeles:20251114T200000
DTEND;TZID=America/Los_Angeles:20251114T220000
DTSTAMP:20260424T001929
CREATED:20251030T194833Z
LAST-MODIFIED:20251030T194833Z
UID:10620-1763150400-1763157600@events.kesq.com
SUMMARY:LEA SALONGA Stage\, Screen & Everything in Between
DESCRIPTION:Musical theatre royalty and official Disney Legend Lea Salonga is bringing her acclaimed Stage\, Screen & Everything In Between tour. \nIn Stage\, Screen & Everything In Between\, musical theatre fans will experience stage and screen classics from Lea’s iconic roles including songs from Miss Saigon\, Les Misérables\, Aladdin and Mulan\, new-found favorites from the critically acclaimed Broadway and West End hit Old Friends\, Broadway blockbusters\, pop classics\, and much more from her celebrated career and beyond. \n\nFri\, Nov 14 8:00pm \n\nBuy Tickets
URL:https://events.kesq.com/event/lea-salonga-stage-screen-everything-in-between/
LOCATION:McCallum Theatre\, 73000 Fred Waring Drive\, Palm Desert\, 92260
CATEGORIES:Theater
ATTACH;FMTTYPE=image/jpeg:https://events.kesq.com/wp-content/uploads/2025/10/Lea-Solanga-Production-Header-1800-x-544-px-780-x-432-px.jpg
END:VEVENT
END:VCALENDAR