BEGIN:VCALENDAR
VERSION:2.0
PRODID:-//KESQ Events - ECPv6.15.20//NONSGML v1.0//EN
CALSCALE:GREGORIAN
METHOD:PUBLISH
X-WR-CALNAME:KESQ Events
X-ORIGINAL-URL:https://events.kesq.com
X-WR-CALDESC:Events for KESQ Events
REFRESH-INTERVAL;VALUE=DURATION:PT1H
X-Robots-Tag:noindex
X-PUBLISHED-TTL:PT1H
BEGIN:VTIMEZONE
TZID:America/Los_Angeles
BEGIN:DAYLIGHT
TZOFFSETFROM:-0800
TZOFFSETTO:-0700
TZNAME:PDT
DTSTART:20240310T100000
END:DAYLIGHT
BEGIN:STANDARD
TZOFFSETFROM:-0700
TZOFFSETTO:-0800
TZNAME:PST
DTSTART:20241103T090000
END:STANDARD
BEGIN:DAYLIGHT
TZOFFSETFROM:-0800
TZOFFSETTO:-0700
TZNAME:PDT
DTSTART:20250309T100000
END:DAYLIGHT
BEGIN:STANDARD
TZOFFSETFROM:-0700
TZOFFSETTO:-0800
TZNAME:PST
DTSTART:20251102T090000
END:STANDARD
BEGIN:DAYLIGHT
TZOFFSETFROM:-0800
TZOFFSETTO:-0700
TZNAME:PDT
DTSTART:20260308T100000
END:DAYLIGHT
BEGIN:STANDARD
TZOFFSETFROM:-0700
TZOFFSETTO:-0800
TZNAME:PST
DTSTART:20261101T090000
END:STANDARD
END:VTIMEZONE
BEGIN:VEVENT
DTSTART;TZID=America/Los_Angeles:20251203T190000
DTEND;TZID=America/Los_Angeles:20251203T210000
DTSTAMP:20260423T063220
CREATED:20251125T175719Z
LAST-MODIFIED:20251125T175719Z
UID:10899-1764788400-1764795600@events.kesq.com
SUMMARY:Sayed Sabrina Performing At The Desert Blues Revival
DESCRIPTION:7:00 p.m. – In concert: Sayed Sabrina – Wednesday – December 3\, 2025. \nThe Desert Blues Revival – At Agua Caliente Palm Springs \n 
URL:https://events.kesq.com/event/sayed-sabrina-performing-at-the-desert-blues-revival/
LOCATION:Agua Caliente Casino Cascade Lounge\, 401 E. Amado\, Palm Springs\, 92262
CATEGORIES:Art and Exhibits,Community,Fairs and Festivals,Food and Drink,Music
ATTACH;FMTTYPE=image/jpeg:https://events.kesq.com/wp-content/uploads/2025/11/IMG_2617.jpeg
END:VEVENT
END:VCALENDAR