BEGIN:VCALENDAR
VERSION:2.0
PRODID:-//KESQ Events - ECPv6.15.20//NONSGML v1.0//EN
CALSCALE:GREGORIAN
METHOD:PUBLISH
X-ORIGINAL-URL:https://events.kesq.com
X-WR-CALDESC:Events for KESQ Events
REFRESH-INTERVAL;VALUE=DURATION:PT1H
X-Robots-Tag:noindex
X-PUBLISHED-TTL:PT1H
BEGIN:VTIMEZONE
TZID:America/Los_Angeles
BEGIN:DAYLIGHT
TZOFFSETFROM:-0800
TZOFFSETTO:-0700
TZNAME:PDT
DTSTART:20240310T100000
END:DAYLIGHT
BEGIN:STANDARD
TZOFFSETFROM:-0700
TZOFFSETTO:-0800
TZNAME:PST
DTSTART:20241103T090000
END:STANDARD
BEGIN:DAYLIGHT
TZOFFSETFROM:-0800
TZOFFSETTO:-0700
TZNAME:PDT
DTSTART:20250309T100000
END:DAYLIGHT
BEGIN:STANDARD
TZOFFSETFROM:-0700
TZOFFSETTO:-0800
TZNAME:PST
DTSTART:20251102T090000
END:STANDARD
BEGIN:DAYLIGHT
TZOFFSETFROM:-0800
TZOFFSETTO:-0700
TZNAME:PDT
DTSTART:20260308T100000
END:DAYLIGHT
BEGIN:STANDARD
TZOFFSETFROM:-0700
TZOFFSETTO:-0800
TZNAME:PST
DTSTART:20261101T090000
END:STANDARD
END:VTIMEZONE
BEGIN:VEVENT
DTSTART;TZID=America/Los_Angeles:20251205T170000
DTEND;TZID=America/Los_Angeles:20251205T183000
DTSTAMP:20260423T072428
CREATED:20250922T220152Z
LAST-MODIFIED:20250922T220327Z
UID:10094-1764954000-1764959400@events.kesq.com
SUMMARY:Tree Lighting Ceremony
DESCRIPTION:Join the City of Indio in the tree lighting ceremony. Kickstart the Holiday season with this community event!
URL:https://events.kesq.com/event/tree-lighting-ceremony-just-add-to-calendar/
LOCATION:CA
END:VEVENT
BEGIN:VEVENT
DTSTART;TZID=America/Los_Angeles:20251205T200000
DTEND;TZID=America/Los_Angeles:20251205T213000
DTSTAMP:20260423T072428
CREATED:20250917T233245Z
LAST-MODIFIED:20250917T233245Z
UID:9983-1764964800-1764970200@events.kesq.com
SUMMARY:A John Waters Christmas
DESCRIPTION:John Waters returns with a brand-new Holiday-themed comedy monologue!
URL:https://events.kesq.com/event/a-john-waters-christmas/
LOCATION:The Plaza Theatre\, 128 South Palm Canyon Drive\, Palm Springs\, 92262\, United States
CATEGORIES:Comedy
ATTACH;FMTTYPE=image/webp:https://events.kesq.com/wp-content/uploads/2025/09/JohnWaters_810x460-c026eed2c5.webp
END:VEVENT
BEGIN:VEVENT
DTSTART;TZID=America/Los_Angeles:20251205T200000
DTEND;TZID=America/Los_Angeles:20251205T220000
DTSTAMP:20260423T072428
CREATED:20251030T200126Z
LAST-MODIFIED:20251030T200126Z
UID:10638-1764964800-1764972000@events.kesq.com
SUMMARY:MOMIX: Alice Down The Rabbit Hole
DESCRIPTION:Travel down the rabbit hole MOMIX-style with Moses Pendleton’s newest creation\, ALICE\, inspired by Lewis Carrol’s classic Alice in Wonderland. As Alice’s body grows and shrinks and grows again\, Pendleton’s dancers extend themselves by means of props\, ropes\, and other dancers. \n\nFri\, Dec 5 8:00pm \n\nBuy Tickets
URL:https://events.kesq.com/event/momix-alice-down-the-rabbit-hole/
LOCATION:McCallum Theatre\, 73000 Fred Waring Drive\, Palm Desert\, 92260
CATEGORIES:Theater
ATTACH;FMTTYPE=image/jpeg:https://events.kesq.com/wp-content/uploads/2025/10/Momix-780x432-1.jpg
END:VEVENT
END:VCALENDAR