BEGIN:VCALENDAR
VERSION:2.0
PRODID:-//KESQ Events - ECPv6.15.20//NONSGML v1.0//EN
CALSCALE:GREGORIAN
METHOD:PUBLISH
X-WR-CALNAME:KESQ Events
X-ORIGINAL-URL:https://events.kesq.com
X-WR-CALDESC:Events for KESQ Events
REFRESH-INTERVAL;VALUE=DURATION:PT1H
X-Robots-Tag:noindex
X-PUBLISHED-TTL:PT1H
BEGIN:VTIMEZONE
TZID:America/Los_Angeles
BEGIN:DAYLIGHT
TZOFFSETFROM:-0800
TZOFFSETTO:-0700
TZNAME:PDT
DTSTART:20240310T100000
END:DAYLIGHT
BEGIN:STANDARD
TZOFFSETFROM:-0700
TZOFFSETTO:-0800
TZNAME:PST
DTSTART:20241103T090000
END:STANDARD
BEGIN:DAYLIGHT
TZOFFSETFROM:-0800
TZOFFSETTO:-0700
TZNAME:PDT
DTSTART:20250309T100000
END:DAYLIGHT
BEGIN:STANDARD
TZOFFSETFROM:-0700
TZOFFSETTO:-0800
TZNAME:PST
DTSTART:20251102T090000
END:STANDARD
BEGIN:DAYLIGHT
TZOFFSETFROM:-0800
TZOFFSETTO:-0700
TZNAME:PDT
DTSTART:20260308T100000
END:DAYLIGHT
BEGIN:STANDARD
TZOFFSETFROM:-0700
TZOFFSETTO:-0800
TZNAME:PST
DTSTART:20261101T090000
END:STANDARD
END:VTIMEZONE
BEGIN:VEVENT
DTSTART;TZID=America/Los_Angeles:20251220T110000
DTEND;TZID=America/Los_Angeles:20251220T170000
DTSTAMP:20260424T014516
CREATED:20251007T200702Z
LAST-MODIFIED:20251007T200702Z
UID:10485-1766228400-1766250000@events.kesq.com
SUMMARY:Gingerbread Lane
DESCRIPTION:Welcome to Gingerbread Lane: A Holiday Wonderland\nEach year\, Old Town Artisan Studios transforms its 3-acre art campus into Gingerbread Lane—a magical winter wonderland filled with dazzling lights\, trimmed garlands\, and a stunning 17-foot tree beside Santa’s workshop. From the moment you step through the gates\, you’ll be immersed in the festive spirit of the season! \nMarvel at twinkling displays and savor holiday treats like gingerbread cookies and hot cider from our culinary corner. Let your creativity shine with hands-on activities\, including cookie decorating and clay ornament painting. Enjoy live performances featuring seasonal music\, delightful dance\, and special showcases by talented youth groups from across the Coachella Valley—all at no cost to you and your family. Capture cherished memories at our beautifully decorated Holiday Cottage\, where Santa and Mrs. Claus make special appearances. \nGingerbread Lane is the heartfelt vision of Founder Victory Grund\, who believes in reviving the joy of handmade holiday gifts. “When a person of any age creates a gift by hand\, it becomes a treasure that grows more meaningful with each passing year\,” says Grund. “Creating art together with family or friends can become a tradition\, with the joy of giving at its core.” Gingerbread Lane is more than an event—it’s where holiday memories and traditions are made!
URL:https://events.kesq.com/event/gingerbread-lane/2025-12-20/
LOCATION:OLD TOWN ARTISAN STUDIOS\, 78046 Calle Barcelona\, La Quinta\, 92253
CATEGORIES:Art and Exhibits,Community,Fairs and Festivals,Food and Drink,Music
ATTACH;FMTTYPE=image/png:https://events.kesq.com/wp-content/uploads/2025/09/GBL-2024-2.png
ORGANIZER;CN="Old Town Artisan Studios":MAILTO:jackie@oldtownartisanstudios.org
END:VEVENT
BEGIN:VEVENT
DTSTART;TZID=America/Los_Angeles:20251220T170000
DTEND;TZID=America/Los_Angeles:20251220T183000
DTSTAMP:20260424T014516
CREATED:20251125T004825Z
LAST-MODIFIED:20251125T004825Z
UID:10816-1766250000-1766255400@events.kesq.com
SUMMARY:PIANO RIOT with Jason Riot
DESCRIPTION:The phenomenal JASON WEBER brings his talents weekly to PIANO RIOT at the REVOLUTION! Admission gets you a complimentary glass of beer or wine. $15 in advance or $20. CASH ONLY at the door.
URL:https://events.kesq.com/event/piano-riot-with-jason-riot/
LOCATION:Revolution Stage Comedy\, 611 S. Palm Canyon Dr. Suite 16\, Palm Springs\, 92264
CATEGORIES:Music
ATTACH;FMTTYPE=image/png:https://events.kesq.com/wp-content/uploads/2025/11/IMG_8097-7.png
END:VEVENT
BEGIN:VEVENT
DTSTART;TZID=America/Los_Angeles:20251220T200000
DTEND;TZID=America/Los_Angeles:20251220T213000
DTSTAMP:20260424T014516
CREATED:20250820T163658Z
LAST-MODIFIED:20250820T163658Z
UID:9810-1766260800-1766266200@events.kesq.com
SUMMARY:RAIN – A Beatles Christmas Tribute
DESCRIPTION:Join us for a nostalgic evening of love\, joy\, and timeless music as RAIN – A Beatles Christmas Tribute brings the spirit of the season to life. Hear holiday favorites alongside the legendary sounds of the Beatles. This festive celebration blends the magic of the holidays with the unforgettable music you know and love. It’s an evening perfect for families\, friends\, and Beatles fans of all ages. \nCome together and share in the peace of the season with RAIN – A Beatles Christmas Tribute.
URL:https://events.kesq.com/event/rain-a-beatles-christmas-tribute/
LOCATION:Fantasy Springs Resort Casino\, 84-245 Indio Springs Pkwy\, Indio\, CA\, 92203\, United States
CATEGORIES:Music
ATTACH;FMTTYPE=image/jpeg:https://events.kesq.com/wp-content/uploads/2025/08/Rain_DigitalAd_676x375.jpg
END:VEVENT
BEGIN:VEVENT
DTSTART;TZID=America/Los_Angeles:20251220T200000
DTEND;TZID=America/Los_Angeles:20251220T220000
DTSTAMP:20260424T014516
CREATED:20251114T215804Z
LAST-MODIFIED:20251114T215804Z
UID:10722-1766260800-1766268000@events.kesq.com
SUMMARY:RAIN – A Beatles Christmas Tribute
DESCRIPTION:Join us for a nostalgic evening of love\, joy\, and timeless music as RAIN – A Beatles Christmas Tribute brings the spirit of the season to life. Hear holiday favorites alongside the legendary sounds of the Beatles. This festive celebration blends the magic of the holidays with the unforgettable music you know and love. It’s an evening perfect for families\, friends\, and Beatles fans of all ages. \nCome together and share in the peace of the season with RAIN – A Beatles Christmas Tribute.
URL:https://events.kesq.com/event/rain-a-beatles-christmas-tribute-2/
LOCATION:Fantasy Springs Resort Casino\, 84-245 Indio Springs Pkwy\, Indio\, CA\, 92203\, United States
CATEGORIES:Music
ATTACH;FMTTYPE=image/jpeg:https://events.kesq.com/wp-content/uploads/2025/11/Rain_DigitalAd_676x375.jpg
END:VEVENT
END:VCALENDAR