BEGIN:VCALENDAR
VERSION:2.0
PRODID:-//KESQ Events - ECPv6.15.20//NONSGML v1.0//EN
CALSCALE:GREGORIAN
METHOD:PUBLISH
X-ORIGINAL-URL:https://events.kesq.com
X-WR-CALDESC:Events for KESQ Events
REFRESH-INTERVAL;VALUE=DURATION:PT1H
X-Robots-Tag:noindex
X-PUBLISHED-TTL:PT1H
BEGIN:VTIMEZONE
TZID:America/Los_Angeles
BEGIN:DAYLIGHT
TZOFFSETFROM:-0800
TZOFFSETTO:-0700
TZNAME:PDT
DTSTART:20250309T100000
END:DAYLIGHT
BEGIN:STANDARD
TZOFFSETFROM:-0700
TZOFFSETTO:-0800
TZNAME:PST
DTSTART:20251102T090000
END:STANDARD
BEGIN:DAYLIGHT
TZOFFSETFROM:-0800
TZOFFSETTO:-0700
TZNAME:PDT
DTSTART:20260308T100000
END:DAYLIGHT
BEGIN:STANDARD
TZOFFSETFROM:-0700
TZOFFSETTO:-0800
TZNAME:PST
DTSTART:20261101T090000
END:STANDARD
BEGIN:DAYLIGHT
TZOFFSETFROM:-0800
TZOFFSETTO:-0700
TZNAME:PDT
DTSTART:20270314T100000
END:DAYLIGHT
BEGIN:STANDARD
TZOFFSETFROM:-0700
TZOFFSETTO:-0800
TZNAME:PST
DTSTART:20271107T090000
END:STANDARD
END:VTIMEZONE
BEGIN:VEVENT
DTSTART;TZID=America/Los_Angeles:20260302T190000
DTEND;TZID=America/Los_Angeles:20260302T220000
DTSTAMP:20260424T150806
CREATED:20251224T173034Z
LAST-MODIFIED:20251224T173034Z
UID:10971-1772478000-1772488800@events.kesq.com
SUMMARY:Adopt the Arts Sound & Vision Awards
DESCRIPTION:Adopt the Arts Presents: The Sound & Vision Awards Honoring Paul Rodgers & Geezer Butler \nOn Monday\, March 2\, 2026\, Adopt the Arts will host the Sound & Vision Awards at the historic Plaza Theatre in Palm Springs\, honoring rock legends Paul Rodgers (Free\, Bad Company) and Geezer Butler (Black Sabbath). \nThe evening will feature ATA Founder Matt Sorum as Musical Director\, leading an all-star band of Rock & Roll Hall of Fame inductees in tribute to the honorees’ greatest classics. Jane Lynch will host\, with special guests and performers who will be joining the three rock legends onstage to be announced. \nBlending legendary performances with purpose\, the Sound & Vision Awards supports Adopt the Arts’ mission to keep music education alive for thousands of elementary school students in Los Angeles and the Coachella Valley. \n Musical Director & on drums: Adopt the Arts Founder Matt Sorum (Guns N’ Roses\, Velvet Revolver\, The Cult) \nAnd joining them on stage… an explosive all-star lineup: \n Glenn Hughes (Deep Purple) \n Lzzy Hale (Halestorm) \n Corey Taylor (Slipknot) \n Nuno Bettencourt (Extreme) \n Robert DeLeo (Stone Temple Pilots) \n Billy Duffy (The Cult) \n Phil X (Bon Jovi) \n Stevie Salas (Mick Jagger) \n…and more special guests still to be announced! \n TICKETS ON SALE NOW → https://www.palmspringsplazatheatre.com/…/sound-and-vision
URL:https://events.kesq.com/event/adopt-the-arts-sound-vision-awards/
LOCATION:Palm Springs Plaza Theatre\, 128 S. Palm Canyon Drive\, Palm Springs\, 92262
CATEGORIES:Fundraisers and Galas,Music,Theater
ATTACH;FMTTYPE=image/jpeg:https://events.kesq.com/wp-content/uploads/2025/12/Poster-2.jpg
ORGANIZER;CN="Adopt the Arts Foundation":MAILTO:info@adoptthearts.org
END:VEVENT
END:VCALENDAR