BEGIN:VCALENDAR
VERSION:2.0
PRODID:-//KESQ Events - ECPv6.15.20//NONSGML v1.0//EN
CALSCALE:GREGORIAN
METHOD:PUBLISH
X-WR-CALNAME:KESQ Events
X-ORIGINAL-URL:https://events.kesq.com
X-WR-CALDESC:Events for KESQ Events
REFRESH-INTERVAL;VALUE=DURATION:PT1H
X-Robots-Tag:noindex
X-PUBLISHED-TTL:PT1H
BEGIN:VTIMEZONE
TZID:America/Los_Angeles
BEGIN:DAYLIGHT
TZOFFSETFROM:-0800
TZOFFSETTO:-0700
TZNAME:PDT
DTSTART:20250309T100000
END:DAYLIGHT
BEGIN:STANDARD
TZOFFSETFROM:-0700
TZOFFSETTO:-0800
TZNAME:PST
DTSTART:20251102T090000
END:STANDARD
BEGIN:DAYLIGHT
TZOFFSETFROM:-0800
TZOFFSETTO:-0700
TZNAME:PDT
DTSTART:20260308T100000
END:DAYLIGHT
BEGIN:STANDARD
TZOFFSETFROM:-0700
TZOFFSETTO:-0800
TZNAME:PST
DTSTART:20261101T090000
END:STANDARD
BEGIN:DAYLIGHT
TZOFFSETFROM:-0800
TZOFFSETTO:-0700
TZNAME:PDT
DTSTART:20270314T100000
END:DAYLIGHT
BEGIN:STANDARD
TZOFFSETFROM:-0700
TZOFFSETTO:-0800
TZNAME:PST
DTSTART:20271107T090000
END:STANDARD
END:VTIMEZONE
BEGIN:VEVENT
DTSTART;TZID=America/Los_Angeles:20260420T090000
DTEND;TZID=America/Los_Angeles:20260420T170000
DTSTAMP:20260422T063758
CREATED:20260320T152325Z
LAST-MODIFIED:20260320T152442Z
UID:11831-1776675600-1776704400@events.kesq.com
SUMMARY:La Belle Époque
DESCRIPTION:Heather James Fine Art is proudly celebrating thirty years in business with La Belle Époque to the Gilded Age: European Impressionism’s Influence on American Art\, an exhibition celebrating the elegance\, creativity\, and cultural vibrancy of late-19th and early-20th century France. \nNow on view at the gallery located on Portola in Palm Desert\, the exhibition brings together a selection of exceptional works that capture the spirit of one of the most celebrated artistic periods in European history. \n The Belle Époque\, or “Beautiful Era\,” refers to the period in France between approximately 1871 and the outbreak of World War I—a time defined by artistic innovation\, flourishing culture\, and an atmosphere of optimism. Artists working during this era produced some of the most recognizable and influential works in the history of modern art\, depicting scenes of Parisian life\, landscapes\, and the evolving modern world. The exhibition features prominent works from Claude Monet\, Winslow Homer\, Childe Hassam\, August Renoir\, Camille Pissarro\, Paul Signat and many others. \n“This exhibition celebrates a remarkable moment in art history when creativity and culture flourished\,” said Chip Tom\, Gallery Director\, for Heather James Fine Art. “The Belle Époque produced extraordinary artists whose works captured the beauty\, optimism\, and sophistication of the time. We are delighted to share these pieces with the community.” \n The exhibition features works that evoke the vibrant life of Paris and the broader artistic movements of the period\, showcasing the technical mastery and expressive vision that made the Belle Époque one of the most influential moments in Western art. \nVisitors are invited to experience the exhibition in person and explore the rich artistic legacy of this celebrated period. \nAbout Heather James Fine Art: Heather James Fine Art\, celebrating 30 years in business\, specializes in museum-quality works spanning Impressionism\, Modern\, and Contemporary art. With gallery locations in Palm Desert\, California and Jackson Hole\, Wyoming\, the gallery is known for presenting historically significant works and thoughtfully curated exhibitions that engage collectors and the broader community. For additional information\, please visit http://heatherjames.com \nMonday – Saturday 9am – 5:00om
URL:https://events.kesq.com/event/la-belle-epoque/
LOCATION:Heather James Fine Art\, 45188 Portola Ave\, Palm Desert\, 92260
CATEGORIES:Art and Exhibits
ATTACH;FMTTYPE=image/jpeg:https://events.kesq.com/wp-content/uploads/2026/03/HJ-LBE-1-scaled.jpg
ORGANIZER;CN="Heather James Fine Art":MAILTO:brent@heatherjames.com
END:VEVENT
BEGIN:VEVENT
DTSTART;TZID=America/Los_Angeles:20260420T180000
DTEND;TZID=America/Los_Angeles:20260420T200000
DTSTAMP:20260422T063758
CREATED:20251006T154156Z
LAST-MODIFIED:20251029T205345Z
UID:10476-1776708000-1776715200@events.kesq.com
SUMMARY:Open Mic Night with Featured Food Vendors
DESCRIPTION:Join us for an evening of performances and a featured FOOD VENDOR!\nCalling all musicians\, poets\, comedians\, songwriters\, storytellers\, and artists alike! Old Town Artisan Studios is hosting a monthly Open Mic Night with stage\, PA\, and host. Come and share with us every third Monday of the month from 6 to 8 pm in our beautiful outdoor courtyard. Practice your skills\, gain confidence by performing in front of others in a supportive environment\, and connect with and learn from other artists. To amplify the experience\, we are bringing food trucks to Open Mic in the large parking lot at the main entrance of OTAS.  Limited seating and tables will be available within the lower patio and courtyard.
URL:https://events.kesq.com/event/open-mic-night-with-featured-food-vendors/2026-04-20/
LOCATION:OLD TOWN ARTISAN STUDIOS\, 78046 Calle Barcelona\, La Quinta\, 92253
CATEGORIES:Art and Exhibits,Comedy,Community,Food and Drink,Music
ATTACH;FMTTYPE=image/png:https://events.kesq.com/wp-content/uploads/2025/09/d-7.png
END:VEVENT
END:VCALENDAR