BEGIN:VCALENDAR
VERSION:2.0
PRODID:-//KESQ Events - ECPv6.15.20//NONSGML v1.0//EN
CALSCALE:GREGORIAN
METHOD:PUBLISH
X-ORIGINAL-URL:https://events.kesq.com
X-WR-CALDESC:Events for KESQ Events
REFRESH-INTERVAL;VALUE=DURATION:PT1H
X-Robots-Tag:noindex
X-PUBLISHED-TTL:PT1H
BEGIN:VTIMEZONE
TZID:America/Los_Angeles
BEGIN:DAYLIGHT
TZOFFSETFROM:-0800
TZOFFSETTO:-0700
TZNAME:PDT
DTSTART:20250309T100000
END:DAYLIGHT
BEGIN:STANDARD
TZOFFSETFROM:-0700
TZOFFSETTO:-0800
TZNAME:PST
DTSTART:20251102T090000
END:STANDARD
BEGIN:DAYLIGHT
TZOFFSETFROM:-0800
TZOFFSETTO:-0700
TZNAME:PDT
DTSTART:20260308T100000
END:DAYLIGHT
BEGIN:STANDARD
TZOFFSETFROM:-0700
TZOFFSETTO:-0800
TZNAME:PST
DTSTART:20261101T090000
END:STANDARD
BEGIN:DAYLIGHT
TZOFFSETFROM:-0800
TZOFFSETTO:-0700
TZNAME:PDT
DTSTART:20270314T100000
END:DAYLIGHT
BEGIN:STANDARD
TZOFFSETFROM:-0700
TZOFFSETTO:-0800
TZNAME:PST
DTSTART:20271107T090000
END:STANDARD
END:VTIMEZONE
BEGIN:VEVENT
DTSTART;TZID=America/Los_Angeles:20260421T200000
DTEND;TZID=America/Los_Angeles:20260421T213000
DTSTAMP:20260424T193758
CREATED:20260417T170622Z
LAST-MODIFIED:20260417T170622Z
UID:12145-1776801600-1776807000@events.kesq.com
SUMMARY:Yuja Wang With the Mahler Chamber Orchestra
DESCRIPTION:Pianist Yuja Wang is celebrated for her charismatic artistry\, emotional honesty and captivating stage presence. She has performed with the world’s most venerated conductors\, musicians and ensembles\, and is renowned not only for her virtuosity\, but her spontaneous and lively performances
URL:https://events.kesq.com/event/yuja-wang-with-the-mahler-chamber-orchestra/
LOCATION:McCallum Theatre\, 73000 Fred Waring Drive\, Palm Desert\, 92260
CATEGORIES:Music
ATTACH;FMTTYPE=image/jpeg:https://events.kesq.com/wp-content/uploads/2026/04/Yuja-Wang-Production-Image-780-x-432-px.jpg
END:VEVENT
END:VCALENDAR