BEGIN:VCALENDAR
VERSION:2.0
PRODID:-//KESQ Events - ECPv6.15.20//NONSGML v1.0//EN
CALSCALE:GREGORIAN
METHOD:PUBLISH
X-WR-CALNAME:KESQ Events
X-ORIGINAL-URL:https://events.kesq.com
X-WR-CALDESC:Events for KESQ Events
REFRESH-INTERVAL;VALUE=DURATION:PT1H
X-Robots-Tag:noindex
X-PUBLISHED-TTL:PT1H
BEGIN:VTIMEZONE
TZID:America/Los_Angeles
BEGIN:DAYLIGHT
TZOFFSETFROM:-0800
TZOFFSETTO:-0700
TZNAME:PDT
DTSTART:20220313T100000
END:DAYLIGHT
BEGIN:STANDARD
TZOFFSETFROM:-0700
TZOFFSETTO:-0800
TZNAME:PST
DTSTART:20221106T090000
END:STANDARD
BEGIN:DAYLIGHT
TZOFFSETFROM:-0800
TZOFFSETTO:-0700
TZNAME:PDT
DTSTART:20230312T100000
END:DAYLIGHT
BEGIN:STANDARD
TZOFFSETFROM:-0700
TZOFFSETTO:-0800
TZNAME:PST
DTSTART:20231105T090000
END:STANDARD
BEGIN:DAYLIGHT
TZOFFSETFROM:-0800
TZOFFSETTO:-0700
TZNAME:PDT
DTSTART:20240310T100000
END:DAYLIGHT
BEGIN:STANDARD
TZOFFSETFROM:-0700
TZOFFSETTO:-0800
TZNAME:PST
DTSTART:20241103T090000
END:STANDARD
END:VTIMEZONE
BEGIN:VEVENT
DTSTART;TZID=America/Los_Angeles:20230926T110000
DTEND;TZID=America/Los_Angeles:20231027T160000
DTSTAMP:20260423T064823
CREATED:20230822T221930Z
LAST-MODIFIED:20230822T221930Z
UID:3654-1695726000-1698422400@events.kesq.com
SUMMARY:Art Exhibition: Raiz II
DESCRIPTION:RAIZ IICollege of the Desert\, Walter N. Marks Art Center \nCurated by Thinkspace Projects | Tlaloc Studios | The Perez Brothers Opening Reception: Thursday\, September 28 from 4-7 pm with installations from the Bloody Gums Collective and live screen printing from Blue Hill Studios   On view September 26 through October 27\, 2023 at:Walter N. Marks Center for the ArtsCollege of the Desert43-500 Monterey AvenuePalm Desert\, CA 92260Featured solo exhibition from Carlos Ramirez alongside works from:AbarsEstefania AjcipAnta52Andrea AragonMichael Bardales-UriosteguiAlex BargasBrekJoshua CastanedaEmilia CruzDeladesoDelishaLeo EguiarteSofia EnriquezPriscilla S. FloresEduardo GomezGoopMasstaEmiliana HenriquezCody JimenezHaylie JimenezSydnie JimenezLarry LiDaniel LopezKiara Aileen Machado Danny Martinez (aka Van Dam One)Steve MartinezJay McKayMister ToledoNikkolos MohammedKristy MorenoLolbette Moreno Mr. B BabyBaby MuellerJasaya Neale Chaz OutingJerry PeñaJacky PerezRandy PerezSimone QuilesJohnny Quintanilla Lily RamirezRoger Ramirez Nori Rasmussen RojaConrad Ruiz Javier Hache Ruiz Esteban Raheem Abdul Raheem SamayoaTamara SantibanezMia ScarpaEduardo Soto Sob Story Hedy TorresMelly TrochezJuri Umagami Bryan ValdezRamon Vargas Josh Vasquez Daisy Velasco Manuel Zamudio
URL:https://events.kesq.com/event/art-exhibition-raiz-ii/
LOCATION:Colllege of the Desert\, 43-500 Monterey Ave\, Palm Desert\, 92260
CATEGORIES:Art and Exhibits
ATTACH;FMTTYPE=image/jpeg:https://events.kesq.com/wp-content/uploads/2023/08/Raiz-II-ad.jpg
ORGANIZER;CN="Marks Art Center":MAILTO:acalderon@collegeofthedesert.edu
END:VEVENT
END:VCALENDAR