BEGIN:VCALENDAR
VERSION:2.0
PRODID:-//KESQ Events - ECPv6.15.20//NONSGML v1.0//EN
CALSCALE:GREGORIAN
METHOD:PUBLISH
X-WR-CALNAME:KESQ Events
X-ORIGINAL-URL:https://events.kesq.com
X-WR-CALDESC:Events for KESQ Events
REFRESH-INTERVAL;VALUE=DURATION:PT1H
X-Robots-Tag:noindex
X-PUBLISHED-TTL:PT1H
BEGIN:VTIMEZONE
TZID:America/Los_Angeles
BEGIN:DAYLIGHT
TZOFFSETFROM:-0800
TZOFFSETTO:-0700
TZNAME:PDT
DTSTART:20220313T100000
END:DAYLIGHT
BEGIN:STANDARD
TZOFFSETFROM:-0700
TZOFFSETTO:-0800
TZNAME:PST
DTSTART:20221106T090000
END:STANDARD
BEGIN:DAYLIGHT
TZOFFSETFROM:-0800
TZOFFSETTO:-0700
TZNAME:PDT
DTSTART:20230312T100000
END:DAYLIGHT
BEGIN:STANDARD
TZOFFSETFROM:-0700
TZOFFSETTO:-0800
TZNAME:PST
DTSTART:20231105T090000
END:STANDARD
BEGIN:DAYLIGHT
TZOFFSETFROM:-0800
TZOFFSETTO:-0700
TZNAME:PDT
DTSTART:20240310T100000
END:DAYLIGHT
BEGIN:STANDARD
TZOFFSETFROM:-0700
TZOFFSETTO:-0800
TZNAME:PST
DTSTART:20241103T090000
END:STANDARD
END:VTIMEZONE
BEGIN:VEVENT
DTSTART;TZID=America/Los_Angeles:20230312T160000
DTEND;TZID=America/Los_Angeles:20230312T210000
DTSTAMP:20260419T234348
CREATED:20230111T195545Z
LAST-MODIFIED:20230111T195545Z
UID:1866-1678636800-1678654800@events.kesq.com
SUMMARY:11th Annual “Hollywood’s Biggest Night” Party benefiting AAP – Food Samaritans
DESCRIPTION:Not held since 2019! In celebration of the 95th annual Academy Awards\, TRIO Restaurant in Palm Springs will host the eleventh annual “Hollywood’s Biggest Night” Oscar night party to benefit AAP-Food Samaritans at 4 pm on Sunday\, March 12\, 2023. The glittering evening hasn’t been held since 2019! It will include signature ‘orange carpet’ arrivals featuring a gaggle of ‘paparazzi’ and a special greeting from dynamic hostess and local celebrity\, Bella da Ball. The Oscars® pre-show and awards presentations will be viewed on special screens throughout Trio’s bar and restaurant areas. \n$150 bar seating \n$200 general seating \n$250 VIP/premium seating \nAll tickets include a multi-course prix-fixe dinner\, house cocktails\, wine\, and champagne
URL:https://events.kesq.com/event/11th-annual-hollywoods-biggest-night-party-benefiting-aap-food-samaritans/
LOCATION:TRIO Restaurant\, 707 N. Palm Canyon Drive\, Paslm Springs\, 92262
CATEGORIES:Fundraisers and Galas
ATTACH;FMTTYPE=image/png:https://events.kesq.com/wp-content/uploads/2023/01/TRIO_Ocars950x850.png
ORGANIZER;CN="AAP-Food Samaritans":MAILTO:markanton@aidsassistance.org
END:VEVENT
END:VCALENDAR