BEGIN:VCALENDAR
VERSION:2.0
PRODID:-//KESQ Events - ECPv6.15.20//NONSGML v1.0//EN
CALSCALE:GREGORIAN
METHOD:PUBLISH
X-WR-CALNAME:KESQ Events
X-ORIGINAL-URL:https://events.kesq.com
X-WR-CALDESC:Events for KESQ Events
REFRESH-INTERVAL;VALUE=DURATION:PT1H
X-Robots-Tag:noindex
X-PUBLISHED-TTL:PT1H
BEGIN:VTIMEZONE
TZID:America/Los_Angeles
BEGIN:DAYLIGHT
TZOFFSETFROM:-0800
TZOFFSETTO:-0700
TZNAME:PDT
DTSTART:20220313T100000
END:DAYLIGHT
BEGIN:STANDARD
TZOFFSETFROM:-0700
TZOFFSETTO:-0800
TZNAME:PST
DTSTART:20221106T090000
END:STANDARD
BEGIN:DAYLIGHT
TZOFFSETFROM:-0800
TZOFFSETTO:-0700
TZNAME:PDT
DTSTART:20230312T100000
END:DAYLIGHT
BEGIN:STANDARD
TZOFFSETFROM:-0700
TZOFFSETTO:-0800
TZNAME:PST
DTSTART:20231105T090000
END:STANDARD
BEGIN:DAYLIGHT
TZOFFSETFROM:-0800
TZOFFSETTO:-0700
TZNAME:PDT
DTSTART:20240310T100000
END:DAYLIGHT
BEGIN:STANDARD
TZOFFSETFROM:-0700
TZOFFSETTO:-0800
TZNAME:PST
DTSTART:20241103T090000
END:STANDARD
END:VTIMEZONE
BEGIN:VEVENT
DTSTART;TZID=America/Los_Angeles:20231210T150000
DTEND;TZID=America/Los_Angeles:20231210T170000
DTSTAMP:20260425T075428
CREATED:20231026T214423Z
LAST-MODIFIED:20231026T214423Z
UID:4659-1702220400-1702227600@events.kesq.com
SUMMARY:Let Heaven And Nature Sing - 31st Annual Holiday Concert
DESCRIPTION:The California Desert Chorale presents its 31st annual holiday concert\, “Let Heaven And Nature Sing.” The gift of song and high-spirits resonate throughout this joyful program featuring traditional choral music and holiday favorites with a twist! \nTim Bruneau\, Artistic Director\nBruce Mangum\, Principal Accompanist \nLive Holiday Concert • 3pm\, Sunday\, December 10th & 17th\, 2023\nRequested donation of $20 | Parking is free | Doors open at 2:30 p.m. | Seating is first come\, first served. \nThe California Desert Chorale exists to bring joy to singers and audiences alike by providing a wide variety of choral and other inspiring vocal musical performances which are designed to entertain\, educate\, and enrich the diverse audiences of Southern California’s desert communities.
URL:https://events.kesq.com/event/let-heaven-and-nature-sing-31st-annual-holiday-concert/2023-12-10/
LOCATION:Hope Palm Desert\, 45900 Portola Ave\, Palm Desert\, CA\, 92260\, United States
CATEGORIES:Music
ATTACH;FMTTYPE=image/jpeg:https://events.kesq.com/wp-content/uploads/2023/10/Chorale-LHANS_HolidayConcert-2023.jpg
ORGANIZER;CN="California Desert Chorale":MAILTO:info@CaliforniaDesertChorale.org
END:VEVENT
END:VCALENDAR