BEGIN:VCALENDAR
VERSION:2.0
PRODID:-//KESQ Events - ECPv6.15.20//NONSGML v1.0//EN
CALSCALE:GREGORIAN
METHOD:PUBLISH
X-ORIGINAL-URL:https://events.kesq.com
X-WR-CALDESC:Events for KESQ Events
REFRESH-INTERVAL;VALUE=DURATION:PT1H
X-Robots-Tag:noindex
X-PUBLISHED-TTL:PT1H
BEGIN:VTIMEZONE
TZID:America/Los_Angeles
BEGIN:DAYLIGHT
TZOFFSETFROM:-0800
TZOFFSETTO:-0700
TZNAME:PDT
DTSTART:20250309T100000
END:DAYLIGHT
BEGIN:STANDARD
TZOFFSETFROM:-0700
TZOFFSETTO:-0800
TZNAME:PST
DTSTART:20251102T090000
END:STANDARD
BEGIN:DAYLIGHT
TZOFFSETFROM:-0800
TZOFFSETTO:-0700
TZNAME:PDT
DTSTART:20260308T100000
END:DAYLIGHT
BEGIN:STANDARD
TZOFFSETFROM:-0700
TZOFFSETTO:-0800
TZNAME:PST
DTSTART:20261101T090000
END:STANDARD
BEGIN:DAYLIGHT
TZOFFSETFROM:-0800
TZOFFSETTO:-0700
TZNAME:PDT
DTSTART:20270314T100000
END:DAYLIGHT
BEGIN:STANDARD
TZOFFSETFROM:-0700
TZOFFSETTO:-0800
TZNAME:PST
DTSTART:20271107T090000
END:STANDARD
END:VTIMEZONE
BEGIN:VEVENT
DTSTART;TZID=America/Los_Angeles:20260425T090000
DTEND;TZID=America/Los_Angeles:20260425T120000
DTSTAMP:20260422T081704
CREATED:20260320T153343Z
LAST-MODIFIED:20260320T153343Z
UID:11824-1777107600-1777118400@events.kesq.com
SUMMARY:La Quinta's Annual Birthday Celebration
DESCRIPTION:Come celebrate the City of La Quinta’s 44th anniversary of incorporation on Saturday\, April 25\, from 9 a.m. to noon at the Civic Center Campus\, 78495 Calle Tampico. This free\, family-friendly event will include food\, activities\, entertainment by local school performers\, dance groups and singers\, various vendors and a pet adoption event in partnership with Riverside County Animal Services. Interactive attractions will include various inflatables such as an obstacle course\, toddler friendly carnival playhouse\, basketball shoot-out\, and bounce houses.
URL:https://events.kesq.com/event/la-quintas-annual-birthday-celebration/
LOCATION:La Quinta Civic Center Campus\, 78495 CALLE TAMPICO\, LA QUINTA\, CA\, 92253\, United States
ATTACH;FMTTYPE=image/jpeg:https://events.kesq.com/wp-content/uploads/2026/03/LQ-birthday.jpeg
END:VEVENT
BEGIN:VEVENT
DTSTART;TZID=America/Los_Angeles:20260506T180000
DTEND;TZID=America/Los_Angeles:20260506T210000
DTSTAMP:20260422T081704
CREATED:20260330T151717Z
LAST-MODIFIED:20260330T151717Z
UID:12004-1778090400-1778101200@events.kesq.com
SUMMARY:La Quinta Concerts in the Park
DESCRIPTION:Enjoy an evening of FREE live music under the La Quinta sky when accomplished musician and vocalist Kenny Metcalf performs as Elton: The Early Years singing some of his iconic hits from “Rocket Man” to “Your Song” and more. The fun begins with food and games from 6 to 7 p.m.\, followed by the concert from 7 to 9 p.m. Bring lawn chairs or blankets\, gather friends and family\, and enjoy a fun\, relaxing night of music\, community\, and good vibes at SilverRock Park\, 51900 SilverRock Way in La Quinta.
URL:https://events.kesq.com/event/la-quinta-concerts-in-the-park-2/
LOCATION:SilverRock Park\, 51900 SilverRock Way\, LA QUINTA\, CA\, 92253\, United States
CATEGORIES:Community,Music
ATTACH;FMTTYPE=image/png:https://events.kesq.com/wp-content/uploads/2026/03/Kenny-Metcalf.png
END:VEVENT
BEGIN:VEVENT
DTSTART;TZID=America/Los_Angeles:20260523T180000
DTEND;TZID=America/Los_Angeles:20260523T210000
DTSTAMP:20260422T081704
CREATED:20260330T151746Z
LAST-MODIFIED:20260330T151746Z
UID:12008-1779559200-1779570000@events.kesq.com
SUMMARY:La Quinta Concerts in the Park
DESCRIPTION:Enjoy an evening of FREE live music under the La Quinta sky when Franklin Wall perform at SilverRock Park. Franklin Wall is an Orange County country duo led by Dan Franklin and Stephanie Wall who mix country favorites\, well-loved classics\, and standout originals. The night starts with food and games from 6 to 7 p.m.\, followed by the concert from 7 to 9 p.m. Bring lawn chairs or blankets and enjoy a fun\, relaxing night of music\, community\, and good vibes at SilverRock Park\, 51900 SilverRock Way in La Quinta.
URL:https://events.kesq.com/event/la-quinta-concerts-in-the-park-3/
LOCATION:SilverRock Park\, 51900 SilverRock Way\, LA QUINTA\, CA\, 92253\, United States
CATEGORIES:Community,Music
ATTACH;FMTTYPE=image/jpeg:https://events.kesq.com/wp-content/uploads/2026/03/Franklin-Wall-Band-May-23-Concert.jpg
END:VEVENT
END:VCALENDAR