BEGIN:VCALENDAR
VERSION:2.0
PRODID:-//KESQ Events - ECPv6.15.20//NONSGML v1.0//EN
CALSCALE:GREGORIAN
METHOD:PUBLISH
X-WR-CALNAME:KESQ Events
X-ORIGINAL-URL:https://events.kesq.com
X-WR-CALDESC:Events for KESQ Events
REFRESH-INTERVAL;VALUE=DURATION:PT1H
X-Robots-Tag:noindex
X-PUBLISHED-TTL:PT1H
BEGIN:VTIMEZONE
TZID:America/Los_Angeles
BEGIN:DAYLIGHT
TZOFFSETFROM:-0800
TZOFFSETTO:-0700
TZNAME:PDT
DTSTART:20210314T100000
END:DAYLIGHT
BEGIN:STANDARD
TZOFFSETFROM:-0700
TZOFFSETTO:-0800
TZNAME:PST
DTSTART:20211107T090000
END:STANDARD
BEGIN:DAYLIGHT
TZOFFSETFROM:-0800
TZOFFSETTO:-0700
TZNAME:PDT
DTSTART:20220313T100000
END:DAYLIGHT
BEGIN:STANDARD
TZOFFSETFROM:-0700
TZOFFSETTO:-0800
TZNAME:PST
DTSTART:20221106T090000
END:STANDARD
BEGIN:DAYLIGHT
TZOFFSETFROM:-0800
TZOFFSETTO:-0700
TZNAME:PDT
DTSTART:20230312T100000
END:DAYLIGHT
BEGIN:STANDARD
TZOFFSETFROM:-0700
TZOFFSETTO:-0800
TZNAME:PST
DTSTART:20231105T090000
END:STANDARD
END:VTIMEZONE
BEGIN:VEVENT
DTSTART;TZID=America/Los_Angeles:20220430T070000
DTEND;TZID=America/Los_Angeles:20220430T120000
DTSTAMP:20260419T224212
CREATED:20220302T232321Z
LAST-MODIFIED:20220302T232321Z
UID:470-1651302000-1651320000@events.kesq.com
SUMMARY:Big Laguna Trail
DESCRIPTION:
URL:https://events.kesq.com/event/big-laguna-trail/
LOCATION:Big Laguna Trailhead\, Pacific Crest Trail\, Mount Laguna\, CA\, 91948\, United States
CATEGORIES:Sports
ATTACH;FMTTYPE=image/jpeg:https://events.kesq.com/wp-content/uploads/2022/03/85c00303a9645f3d4b3c6575badde42c-fLjBdj.tmp_.jpg
END:VEVENT
END:VCALENDAR