BEGIN:VCALENDAR
VERSION:2.0
PRODID:-//KESQ Events - ECPv6.15.20//NONSGML v1.0//EN
CALSCALE:GREGORIAN
METHOD:PUBLISH
X-ORIGINAL-URL:https://events.kesq.com
X-WR-CALDESC:Events for KESQ Events
REFRESH-INTERVAL;VALUE=DURATION:PT1H
X-Robots-Tag:noindex
X-PUBLISHED-TTL:PT1H
BEGIN:VTIMEZONE
TZID:America/Los_Angeles
BEGIN:DAYLIGHT
TZOFFSETFROM:-0800
TZOFFSETTO:-0700
TZNAME:PDT
DTSTART:20210314T100000
END:DAYLIGHT
BEGIN:STANDARD
TZOFFSETFROM:-0700
TZOFFSETTO:-0800
TZNAME:PST
DTSTART:20211107T090000
END:STANDARD
BEGIN:DAYLIGHT
TZOFFSETFROM:-0800
TZOFFSETTO:-0700
TZNAME:PDT
DTSTART:20220313T100000
END:DAYLIGHT
BEGIN:STANDARD
TZOFFSETFROM:-0700
TZOFFSETTO:-0800
TZNAME:PST
DTSTART:20221106T090000
END:STANDARD
BEGIN:DAYLIGHT
TZOFFSETFROM:-0800
TZOFFSETTO:-0700
TZNAME:PDT
DTSTART:20230312T100000
END:DAYLIGHT
BEGIN:STANDARD
TZOFFSETFROM:-0700
TZOFFSETTO:-0800
TZNAME:PST
DTSTART:20231105T090000
END:STANDARD
END:VTIMEZONE
BEGIN:VEVENT
DTSTART;TZID=America/Los_Angeles:20220710T140000
DTEND;TZID=America/Los_Angeles:20220710T160000
DTSTAMP:20260422T172645
CREATED:20220708T000802Z
LAST-MODIFIED:20220708T000802Z
UID:1117-1657461600-1657468800@events.kesq.com
SUMMARY:The Carol Burnett Show Live on Stage
DESCRIPTION:The Carol Burnett Show ran for 11 years and is known as one of the most brilliant television shows of all time. You’ll love this opportunity to see some of the best classic comedy sketches from the program recreated for the stage performed by some of DTW’s favorite performers. Sketches include: The Old Folks Molly and Bert\, Alice Portnoy\, As the Stomach Turns – a soap opera parody\, movie and commercial parodies and many more.
URL:https://events.kesq.com/event/the-carol-burnett-show-live-on-stage/
LOCATION:DESERT THEATREWORKS\, 45175 Fargo St\, Indio\, 92201
CATEGORIES:Theater
ATTACH;FMTTYPE=image/png:https://events.kesq.com/wp-content/uploads/2022/07/ClientFile421374.png
END:VEVENT
END:VCALENDAR