BEGIN:VCALENDAR
VERSION:2.0
PRODID:-//KESQ Events - ECPv6.15.20//NONSGML v1.0//EN
CALSCALE:GREGORIAN
METHOD:PUBLISH
X-ORIGINAL-URL:https://events.kesq.com
X-WR-CALDESC:Events for KESQ Events
REFRESH-INTERVAL;VALUE=DURATION:PT1H
X-Robots-Tag:noindex
X-PUBLISHED-TTL:PT1H
BEGIN:VTIMEZONE
TZID:America/Los_Angeles
BEGIN:DAYLIGHT
TZOFFSETFROM:-0800
TZOFFSETTO:-0700
TZNAME:PDT
DTSTART:20230312T100000
END:DAYLIGHT
BEGIN:STANDARD
TZOFFSETFROM:-0700
TZOFFSETTO:-0800
TZNAME:PST
DTSTART:20231105T090000
END:STANDARD
BEGIN:DAYLIGHT
TZOFFSETFROM:-0800
TZOFFSETTO:-0700
TZNAME:PDT
DTSTART:20240310T100000
END:DAYLIGHT
BEGIN:STANDARD
TZOFFSETFROM:-0700
TZOFFSETTO:-0800
TZNAME:PST
DTSTART:20241103T090000
END:STANDARD
BEGIN:DAYLIGHT
TZOFFSETFROM:-0800
TZOFFSETTO:-0700
TZNAME:PDT
DTSTART:20250309T100000
END:DAYLIGHT
BEGIN:STANDARD
TZOFFSETFROM:-0700
TZOFFSETTO:-0800
TZNAME:PST
DTSTART:20251102T090000
END:STANDARD
END:VTIMEZONE
BEGIN:VEVENT
DTSTART;TZID=America/Los_Angeles:20240105T163000
DTEND;TZID=America/Los_Angeles:20240105T193000
DTSTAMP:20260421T172159
CREATED:20240102T202334Z
LAST-MODIFIED:20240102T202334Z
UID:5073-1704472200-1704483000@events.kesq.com
SUMMARY:El Paseo Design District Art Gallery Collab
DESCRIPTION:Nestled within the Design District of El Paseo\, join That Gallery\, Art 276\, A Gallery\, and Salem on the Edge (a pop up gallery held within That Gallery) for a festive evening of art. Four galleries offering an array of genres\, from urban to pop to contemporary – and a vast selection of figurative artworks. From show stopping large scale mixed media pieces to a sculpture alley\, it promises to be a night filled with visual delights.
URL:https://events.kesq.com/event/el-paseo-design-district-art-gallery-collab/
LOCATION:El Paseo Design District\, El Paseo Drive between San Luis Rey and Portola\, Palm Desert\, CA\, 92260\, United States
CATEGORIES:Art and Exhibits
ATTACH;FMTTYPE=image/jpeg:https://events.kesq.com/wp-content/uploads/2023/12/El-Paseo-Design-District-Art-Gallery-Collab.jpg
END:VEVENT
END:VCALENDAR