BEGIN:VCALENDAR
VERSION:2.0
PRODID:-//KESQ Events - ECPv6.15.20//NONSGML v1.0//EN
CALSCALE:GREGORIAN
METHOD:PUBLISH
X-WR-CALNAME:KESQ Events
X-ORIGINAL-URL:https://events.kesq.com
X-WR-CALDESC:Events for KESQ Events
REFRESH-INTERVAL;VALUE=DURATION:PT1H
X-Robots-Tag:noindex
X-PUBLISHED-TTL:PT1H
BEGIN:VTIMEZONE
TZID:America/Los_Angeles
BEGIN:DAYLIGHT
TZOFFSETFROM:-0800
TZOFFSETTO:-0700
TZNAME:PDT
DTSTART:20250309T100000
END:DAYLIGHT
BEGIN:STANDARD
TZOFFSETFROM:-0700
TZOFFSETTO:-0800
TZNAME:PST
DTSTART:20251102T090000
END:STANDARD
BEGIN:DAYLIGHT
TZOFFSETFROM:-0800
TZOFFSETTO:-0700
TZNAME:PDT
DTSTART:20260308T100000
END:DAYLIGHT
BEGIN:STANDARD
TZOFFSETFROM:-0700
TZOFFSETTO:-0800
TZNAME:PST
DTSTART:20261101T090000
END:STANDARD
BEGIN:DAYLIGHT
TZOFFSETFROM:-0800
TZOFFSETTO:-0700
TZNAME:PDT
DTSTART:20270314T100000
END:DAYLIGHT
BEGIN:STANDARD
TZOFFSETFROM:-0700
TZOFFSETTO:-0800
TZNAME:PST
DTSTART:20271107T090000
END:STANDARD
END:VTIMEZONE
BEGIN:VEVENT
DTSTART;TZID=America/Los_Angeles:20260307T090000
DTEND;TZID=America/Los_Angeles:20260307T120000
DTSTAMP:20260423T140521
CREATED:20260227T171130Z
LAST-MODIFIED:20260227T171130Z
UID:11743-1772874000-1772884800@events.kesq.com
SUMMARY:12th Annual Kiwanis Club of Palm Springs Youth Baseball Clinic
DESCRIPTION:Walter Clark proudly sponsors the 12th Annual Youth Baseball Clinic\, hosted by the Kiwanis Club of Palm Springs. This free\, hands-on clinic helps young athletes build baseball skills\, confidence\, and teamwork through positive coaching from local teams and former professional players. The event takes place Saturday\, March 7\, 2026\, from 9:00 a.m. to 12:00 p.m. at Rancho Mirage High School.
URL:https://events.kesq.com/event/12th-annual-kiwanis-club-of-palm-springs-youth-baseball-clinic/
LOCATION:Rancho Mirage High School\, 31001 Rattler Rd\, Rancho Mirage\, 92270
CATEGORIES:Community
ATTACH;FMTTYPE=image/jpeg:https://events.kesq.com/wp-content/uploads/2026/02/122.jpg
ORGANIZER;CN="Walter Clark Legal Group":MAILTO:ranchomirage@walterclark.com
END:VEVENT
END:VCALENDAR