BEGIN:VCALENDAR
VERSION:2.0
PRODID:-//KESQ Events - ECPv6.15.20//NONSGML v1.0//EN
CALSCALE:GREGORIAN
METHOD:PUBLISH
X-WR-CALNAME:KESQ Events
X-ORIGINAL-URL:https://events.kesq.com
X-WR-CALDESC:Events for KESQ Events
REFRESH-INTERVAL;VALUE=DURATION:PT1H
X-Robots-Tag:noindex
X-PUBLISHED-TTL:PT1H
BEGIN:VTIMEZONE
TZID:America/Los_Angeles
BEGIN:DAYLIGHT
TZOFFSETFROM:-0800
TZOFFSETTO:-0700
TZNAME:PDT
DTSTART:20230312T100000
END:DAYLIGHT
BEGIN:STANDARD
TZOFFSETFROM:-0700
TZOFFSETTO:-0800
TZNAME:PST
DTSTART:20231105T090000
END:STANDARD
BEGIN:DAYLIGHT
TZOFFSETFROM:-0800
TZOFFSETTO:-0700
TZNAME:PDT
DTSTART:20240310T100000
END:DAYLIGHT
BEGIN:STANDARD
TZOFFSETFROM:-0700
TZOFFSETTO:-0800
TZNAME:PST
DTSTART:20241103T090000
END:STANDARD
BEGIN:DAYLIGHT
TZOFFSETFROM:-0800
TZOFFSETTO:-0700
TZNAME:PDT
DTSTART:20250309T100000
END:DAYLIGHT
BEGIN:STANDARD
TZOFFSETFROM:-0700
TZOFFSETTO:-0800
TZNAME:PST
DTSTART:20251102T090000
END:STANDARD
END:VTIMEZONE
BEGIN:VEVENT
DTSTART;TZID=America/Los_Angeles:20240720T170000
DTEND;TZID=America/Los_Angeles:20240720T200000
DTSTAMP:20260423T124619
CREATED:20240717T202422Z
LAST-MODIFIED:20240717T202422Z
UID:6618-1721494800-1721505600@events.kesq.com
SUMMARY:Not Dead Yet Birthday Extravaganza
DESCRIPTION:Celebrate the birthdays of two desert rockers with a wild evening of entertainment. At 5 p.m.\, Saturday\, July 20\, check out the Not Dead Yet Birthday Extravaganza\, celebrating the birthdays of restaurant/bar designer and entrepreneur Dion Antic (turning 60)\, and local eclectic musician Jesika Von Rabbit (age unknown). The event will take place at Snake Bite Roadhouse\, 55405 Twentynine Palms Highway\, in Yucca Valley\, and will feature performances from the Smashing Muffins\, Mat Devine of Kill Hannah\, Frankie Jordan of Dear Amy Band\, Mark Elvis\, Jesika Von Rabbit\, and Mini Kiss! An “adult water slide\,” fire eaters\, a mechanical bull and more will also be parts of the party.
URL:https://events.kesq.com/event/not-dead-yet-birthday-extravaganza/
LOCATION:Snake Bite Roadhouse\, 55405 Twentynine Palms Highway\, Yucca Valley\, CA\, United States
CATEGORIES:Music,Other
ATTACH;FMTTYPE=image/jpeg:https://events.kesq.com/wp-content/uploads/2024/07/not-dead-yet.jpg
END:VEVENT
END:VCALENDAR