BEGIN:VCALENDAR
VERSION:2.0
PRODID:-//KESQ Events - ECPv6.15.20//NONSGML v1.0//EN
CALSCALE:GREGORIAN
METHOD:PUBLISH
X-ORIGINAL-URL:https://events.kesq.com
X-WR-CALDESC:Events for KESQ Events
REFRESH-INTERVAL;VALUE=DURATION:PT1H
X-Robots-Tag:noindex
X-PUBLISHED-TTL:PT1H
BEGIN:VTIMEZONE
TZID:America/Los_Angeles
BEGIN:DAYLIGHT
TZOFFSETFROM:-0800
TZOFFSETTO:-0700
TZNAME:PDT
DTSTART:20220313T100000
END:DAYLIGHT
BEGIN:STANDARD
TZOFFSETFROM:-0700
TZOFFSETTO:-0800
TZNAME:PST
DTSTART:20221106T090000
END:STANDARD
BEGIN:DAYLIGHT
TZOFFSETFROM:-0800
TZOFFSETTO:-0700
TZNAME:PDT
DTSTART:20230312T100000
END:DAYLIGHT
BEGIN:STANDARD
TZOFFSETFROM:-0700
TZOFFSETTO:-0800
TZNAME:PST
DTSTART:20231105T090000
END:STANDARD
BEGIN:DAYLIGHT
TZOFFSETFROM:-0800
TZOFFSETTO:-0700
TZNAME:PDT
DTSTART:20240310T100000
END:DAYLIGHT
BEGIN:STANDARD
TZOFFSETFROM:-0700
TZOFFSETTO:-0800
TZNAME:PST
DTSTART:20241103T090000
END:STANDARD
BEGIN:DAYLIGHT
TZOFFSETFROM:-0800
TZOFFSETTO:-0700
TZNAME:PDT
DTSTART:20250309T100000
END:DAYLIGHT
BEGIN:STANDARD
TZOFFSETFROM:-0700
TZOFFSETTO:-0800
TZNAME:PST
DTSTART:20251102T090000
END:STANDARD
BEGIN:DAYLIGHT
TZOFFSETFROM:-0800
TZOFFSETTO:-0700
TZNAME:PDT
DTSTART:20260308T100000
END:DAYLIGHT
BEGIN:STANDARD
TZOFFSETFROM:-0700
TZOFFSETTO:-0800
TZNAME:PST
DTSTART:20261101T090000
END:STANDARD
END:VTIMEZONE
BEGIN:VEVENT
DTSTART;VALUE=DATE:20250511
DTEND;VALUE=DATE:20250512
DTSTAMP:20260422T202707
CREATED:20250429T172942Z
LAST-MODIFIED:20250429T172942Z
UID:9140-1746921600-1747007999@events.kesq.com
SUMMARY:Mother’s Day Special
DESCRIPTION:💐 Treat your mom to a sweet treat 🍓 on Mother’s Day ❤️ and they will receive a FREE Belgium 🍫 chocolate 🌹rose! 🍫 Yummy! 😋 💦
URL:https://events.kesq.com/event/mothers-day-special/
LOCATION:The River at Rancho Mirage\, 71800 Highway 111\, Rancho Mirage\, CA\, 92270\, United States
CATEGORIES:Community
ATTACH;FMTTYPE=image/jpeg:https://events.kesq.com/wp-content/uploads/2025/04/IMG_4690.jpeg
END:VEVENT
BEGIN:VEVENT
DTSTART;TZID=America/Los_Angeles:20230211T110000
DTEND;TZID=America/Los_Angeles:20230211T170000
DTSTAMP:20260422T202707
CREATED:20230201T234832Z
LAST-MODIFIED:20230201T234832Z
UID:2218-1676113200-1676134800@events.kesq.com
SUMMARY:Lunar Festival at The River Presented by The City of Rancho Mirage Cultural Commission
DESCRIPTION:Gong hei fat choy! The River is excited to announce the first Annual Lunar Festival at The River. Presented by the City of Rancho Mirage Cultural Commission\, honoring the yearly holiday celebrated all over the world. The free festivities in the Year of the Rabbit will include live music\, vendors\, lion dancers\, children’s craft station\, and more celebrating Asian arts and culture.\n\nWe have teamed up with the amazing City of Rancho Mirage Cultural Commission and the highly successful Panana Events (@panananightmarket) to assist with hosting the festival this year.\n\nSo come and celebrate the Year of the Rabbit\, a symbol of longevity\, peace\, and prosperity at The River on Saturday\, February 11th\, from 11am-5pm. The only event of its kind in the area\, it is not to be missed!\nLocated at 71800 Highway 111\, Rancho Mirage\, 92270 in our outdoor Amphitheatre.\n\nBook your free tickets here https://www.eventbrite.com/e/2023-lunar-festival-at-the-river-tickets-408880511617?aff=ebdssbcitybrowse
URL:https://events.kesq.com/event/lunar-festival-at-the-river-presented-by-the-city-of-rancho-mirage-cultural-commission/
LOCATION:The River at Rancho Mirage\, 71800 Highway 111\, Rancho Mirage\, CA\, 92270\, United States
ATTACH;FMTTYPE=image/png:https://events.kesq.com/wp-content/uploads/2023/01/lantern-festival-instagram-1.png
ORGANIZER;CN="Panana Events":MAILTO:Info@panananightmarket.com
END:VEVENT
END:VCALENDAR